BEGIN:VCALENDAR
VERSION:2.0
PRODID:-//Pit Pilot - ECPv6.15.20//NONSGML v1.0//EN
CALSCALE:GREGORIAN
METHOD:PUBLISH
X-WR-CALNAME:Pit Pilot
X-ORIGINAL-URL:https://pitpilot.co.nz
X-WR-CALDESC:Events for Pit Pilot
REFRESH-INTERVAL;VALUE=DURATION:PT1H
X-Robots-Tag:noindex
X-PUBLISHED-TTL:PT1H
BEGIN:VTIMEZONE
TZID:Pacific/Auckland
BEGIN:STANDARD
TZOFFSETFROM:+1300
TZOFFSETTO:+1200
TZNAME:NZST
DTSTART:20240406T140000
END:STANDARD
BEGIN:DAYLIGHT
TZOFFSETFROM:+1200
TZOFFSETTO:+1300
TZNAME:NZDT
DTSTART:20240928T140000
END:DAYLIGHT
BEGIN:STANDARD
TZOFFSETFROM:+1300
TZOFFSETTO:+1200
TZNAME:NZST
DTSTART:20250405T140000
END:STANDARD
BEGIN:DAYLIGHT
TZOFFSETFROM:+1200
TZOFFSETTO:+1300
TZNAME:NZDT
DTSTART:20250927T140000
END:DAYLIGHT
BEGIN:STANDARD
TZOFFSETFROM:+1300
TZOFFSETTO:+1200
TZNAME:NZST
DTSTART:20260404T140000
END:STANDARD
BEGIN:DAYLIGHT
TZOFFSETFROM:+1200
TZOFFSETTO:+1300
TZNAME:NZDT
DTSTART:20260926T140000
END:DAYLIGHT
END:VTIMEZONE
BEGIN:VEVENT
DTSTART;TZID=Pacific/Auckland:20251102T100000
DTEND;TZID=Pacific/Auckland:20251102T100000
DTSTAMP:20260420T001104
CREATED:20251122T075920Z
LAST-MODIFIED:20251122T075920Z
UID:2798-1762077600-1762077600@pitpilot.co.nz
SUMMARY:All comers Picnic Day
DESCRIPTION:Something Different This Year!\nAs you know\, the American Classic Car Club has proudly hosted the much-loved USA Day at Gladstone Park on the first Sunday of November each year.\nFor 2025 only\, the Committee has decided to take a break from the traditional format and instead invite you to a relaxed\, ‘Allcomers Picnic Day’.\nNo entry fee\nNo registration\nNo pressure\nEveryone welcome\nBring your picnic lunch and chairs\nCoffee available\nHot food – (Supporting the Woodend Rugby Football Club)\nJust a casual day to enjoy cars and company!\nThis event is open to everyone – whether you drive American\, English\, European\, Japanese\, a classic custom\, motorcycle\, moped\, or anything in between.\nAll clubs and all vehicle types are welcome.\nWe hope this inclusive format encourages more people to come along and share in the spirit of the car community.\nDon’t worry – USA Day will return in 2026!
URL:https://pitpilot.co.nz/event/all-comers-picnic-day/
END:VEVENT
END:VCALENDAR