BEGIN:VCALENDAR
VERSION:2.0
PRODID:-//Pit Pilot - ECPv6.15.20//NONSGML v1.0//EN
CALSCALE:GREGORIAN
METHOD:PUBLISH
X-WR-CALNAME:Pit Pilot
X-ORIGINAL-URL:https://pitpilot.co.nz
X-WR-CALDESC:Events for Pit Pilot
REFRESH-INTERVAL;VALUE=DURATION:PT1H
X-Robots-Tag:noindex
X-PUBLISHED-TTL:PT1H
BEGIN:VTIMEZONE
TZID:Pacific/Auckland
BEGIN:STANDARD
TZOFFSETFROM:+1300
TZOFFSETTO:+1200
TZNAME:NZST
DTSTART:20240406T140000
END:STANDARD
BEGIN:DAYLIGHT
TZOFFSETFROM:+1200
TZOFFSETTO:+1300
TZNAME:NZDT
DTSTART:20240928T140000
END:DAYLIGHT
BEGIN:STANDARD
TZOFFSETFROM:+1300
TZOFFSETTO:+1200
TZNAME:NZST
DTSTART:20250405T140000
END:STANDARD
BEGIN:DAYLIGHT
TZOFFSETFROM:+1200
TZOFFSETTO:+1300
TZNAME:NZDT
DTSTART:20250927T140000
END:DAYLIGHT
BEGIN:STANDARD
TZOFFSETFROM:+1300
TZOFFSETTO:+1200
TZNAME:NZST
DTSTART:20260404T140000
END:STANDARD
BEGIN:DAYLIGHT
TZOFFSETFROM:+1200
TZOFFSETTO:+1300
TZNAME:NZDT
DTSTART:20260926T140000
END:DAYLIGHT
END:VTIMEZONE
BEGIN:VEVENT
DTSTART;TZID=Pacific/Auckland:20251129T100000
DTEND;TZID=Pacific/Auckland:20251129T150000
DTSTAMP:20260420T001104
CREATED:20251122T080125Z
LAST-MODIFIED:20251122T080125Z
UID:2856-1764410400-1764428400@pitpilot.co.nz
SUMMARY:Arrowtown Auto Show
DESCRIPTION:Join us for a day of cars\, community & fun!\n📅 Saturday 29 November | 📍 Arrowtown School Grounds\nA huge lineup of classics\, modern\, hot rods\, bikes & scooters – a day out for the whole family.\n👉 Register your vehicle here: https://tinyurl.com/ArrowtownAutoShow\nSpectators – gold coin entry on the day.\nAll proceeds support Arrowtown School.
URL:https://pitpilot.co.nz/event/arrowtown-auto-show/
END:VEVENT
END:VCALENDAR