BEGIN:VCALENDAR
VERSION:2.0
PRODID:-//Pit Pilot - ECPv6.15.20//NONSGML v1.0//EN
CALSCALE:GREGORIAN
METHOD:PUBLISH
X-WR-CALNAME:Pit Pilot
X-ORIGINAL-URL:https://pitpilot.co.nz
X-WR-CALDESC:Events for Pit Pilot
REFRESH-INTERVAL;VALUE=DURATION:PT1H
X-Robots-Tag:noindex
X-PUBLISHED-TTL:PT1H
BEGIN:VTIMEZONE
TZID:Pacific/Auckland
BEGIN:STANDARD
TZOFFSETFROM:+1300
TZOFFSETTO:+1200
TZNAME:NZST
DTSTART:20240406T140000
END:STANDARD
BEGIN:DAYLIGHT
TZOFFSETFROM:+1200
TZOFFSETTO:+1300
TZNAME:NZDT
DTSTART:20240928T140000
END:DAYLIGHT
BEGIN:STANDARD
TZOFFSETFROM:+1300
TZOFFSETTO:+1200
TZNAME:NZST
DTSTART:20250405T140000
END:STANDARD
BEGIN:DAYLIGHT
TZOFFSETFROM:+1200
TZOFFSETTO:+1300
TZNAME:NZDT
DTSTART:20250927T140000
END:DAYLIGHT
BEGIN:STANDARD
TZOFFSETFROM:+1300
TZOFFSETTO:+1200
TZNAME:NZST
DTSTART:20260404T140000
END:STANDARD
BEGIN:DAYLIGHT
TZOFFSETFROM:+1200
TZOFFSETTO:+1300
TZNAME:NZDT
DTSTART:20260926T140000
END:DAYLIGHT
END:VTIMEZONE
BEGIN:VEVENT
DTSTART;TZID=Pacific/Auckland:20251122T183000
DTEND;TZID=Pacific/Auckland:20251122T220000
DTSTAMP:20260421T220029
CREATED:20251003T085154Z
LAST-MODIFIED:20251122T074851Z
UID:1872-1763836200-1763848800@pitpilot.co.nz
SUMMARY:Bays of Thunder
DESCRIPTION:Get ready\, Bay of Plenty – The Bays of Thunder is coming back to the Place for Pace and it’s bringing more horsepower\, more adrenaline\, and more edge-of-your-seat action than ever before!\nThis isn’t just another race night – it’s a full-throttle\, family-friendly spectacle packed with clay-slinging speedway thrills\, roaring engines\, and heart-stopping moments that will have fans of all ages on their feet. From the fierce battles on the track to the electric energy in the stands\, The Bays of Thunder promises to be one of the biggest nights of the season.\nWhether you’re a diehard speedway fan or love a good night out with the crew\, this is your chance to experience the very best in dirt track racing\, Baypark style. Tickets go on sale this September – so lock in the date\, spread the word\, and don’t miss your chance to be part of the action!\nThe Bays of Thunder – where the noise is louder\, the pace is faster\, and the memories last forever.\nClasses Racing\n– Sprintcars\n– F2 Midgets\n– Stockcars\n– Ministocks
URL:https://pitpilot.co.nz/event/bays-of-thunder/
LOCATION:Baypark Speedway\, 81 Truman Lane\, Mount Maunganui 3116\, Tauranga\, Bay of Plenty
ATTACH;FMTTYPE=image/webp:https://pitpilot.co.nz/wp-content/uploads/2025/11/image-8mY1H6-scaled.webp
END:VEVENT
END:VCALENDAR