BEGIN:VCALENDAR
VERSION:2.0
PRODID:-//Pit Pilot - ECPv6.15.20//NONSGML v1.0//EN
CALSCALE:GREGORIAN
METHOD:PUBLISH
X-WR-CALNAME:Pit Pilot
X-ORIGINAL-URL:https://pitpilot.co.nz
X-WR-CALDESC:Events for Pit Pilot
REFRESH-INTERVAL;VALUE=DURATION:PT1H
X-Robots-Tag:noindex
X-PUBLISHED-TTL:PT1H
BEGIN:VTIMEZONE
TZID:Pacific/Auckland
BEGIN:STANDARD
TZOFFSETFROM:+1300
TZOFFSETTO:+1200
TZNAME:NZST
DTSTART:20240406T140000
END:STANDARD
BEGIN:DAYLIGHT
TZOFFSETFROM:+1200
TZOFFSETTO:+1300
TZNAME:NZDT
DTSTART:20240928T140000
END:DAYLIGHT
BEGIN:STANDARD
TZOFFSETFROM:+1300
TZOFFSETTO:+1200
TZNAME:NZST
DTSTART:20250405T140000
END:STANDARD
BEGIN:DAYLIGHT
TZOFFSETFROM:+1200
TZOFFSETTO:+1300
TZNAME:NZDT
DTSTART:20250927T140000
END:DAYLIGHT
BEGIN:STANDARD
TZOFFSETFROM:+1300
TZOFFSETTO:+1200
TZNAME:NZST
DTSTART:20260404T140000
END:STANDARD
BEGIN:DAYLIGHT
TZOFFSETFROM:+1200
TZOFFSETTO:+1300
TZNAME:NZDT
DTSTART:20260926T140000
END:DAYLIGHT
END:VTIMEZONE
BEGIN:VEVENT
DTSTART;TZID=Pacific/Auckland:20251206T183000
DTEND;TZID=Pacific/Auckland:20251206T220000
DTSTAMP:20260420T001012
CREATED:20251003T085155Z
LAST-MODIFIED:20251122T074909Z
UID:1873-1765045800-1765058400@pitpilot.co.nz
SUMMARY:Bays Super Bowl
DESCRIPTION:Buckle up\, Bay of Plenty – The Bay Super Bowl is back and it’s bringing the heat to the premier bowl of speedway racing\, December 6th at Baypark Speedway!\nThis is more than just a race night – it’s an all-out\, clay-spraying\, wheel-to-wheel war featuring the fastest drivers\, the wildest battles\, and non-stop action from start to finish. It’s loud\, it’s fast\, and it’s 100% Baypark!\nGather the crew\, bring the whole family\, and get ready for a night of super-sized speedway entertainment under the lights. With packed grids\, big names\, and a party atmosphere like no other\, the Bay Super Bowl is where summer kicks into gear.\nPremier racing.\nMassive matchups.\nUnmatched energy.\nClasses Racing:\nSprintcars\nSuper-Saloons – Sth Pacific Champs\nSuperstocks\nF2 Midgets\nDecember 6th – it’s the one event that sets the pace for the season. Be there\, feel the thunder\, and witness why Baypark is the home of clay-slinging\, high-octane racing like nowhere else.\nThe Bay Super Bowl – it’s go time!
URL:https://pitpilot.co.nz/event/bays-super-bowl/
LOCATION:Baypark Speedway\, 81 Truman Lane\, Mount Maunganui 3116\, Tauranga\, Bay of Plenty
ATTACH;FMTTYPE=image/webp:https://pitpilot.co.nz/wp-content/uploads/2025/11/image-kWVxfx-scaled.webp
END:VEVENT
END:VCALENDAR