BEGIN:VCALENDAR
VERSION:2.0
PRODID:-//Pit Pilot - ECPv6.15.20//NONSGML v1.0//EN
CALSCALE:GREGORIAN
METHOD:PUBLISH
X-WR-CALNAME:Pit Pilot
X-ORIGINAL-URL:https://pitpilot.co.nz
X-WR-CALDESC:Events for Pit Pilot
REFRESH-INTERVAL;VALUE=DURATION:PT1H
X-Robots-Tag:noindex
X-PUBLISHED-TTL:PT1H
BEGIN:VTIMEZONE
TZID:Pacific/Auckland
BEGIN:STANDARD
TZOFFSETFROM:+1300
TZOFFSETTO:+1200
TZNAME:NZST
DTSTART:20240406T140000
END:STANDARD
BEGIN:DAYLIGHT
TZOFFSETFROM:+1200
TZOFFSETTO:+1300
TZNAME:NZDT
DTSTART:20240928T140000
END:DAYLIGHT
BEGIN:STANDARD
TZOFFSETFROM:+1300
TZOFFSETTO:+1200
TZNAME:NZST
DTSTART:20250405T140000
END:STANDARD
BEGIN:DAYLIGHT
TZOFFSETFROM:+1200
TZOFFSETTO:+1300
TZNAME:NZDT
DTSTART:20250927T140000
END:DAYLIGHT
BEGIN:STANDARD
TZOFFSETFROM:+1300
TZOFFSETTO:+1200
TZNAME:NZST
DTSTART:20260404T140000
END:STANDARD
BEGIN:DAYLIGHT
TZOFFSETFROM:+1200
TZOFFSETTO:+1300
TZNAME:NZDT
DTSTART:20260926T140000
END:DAYLIGHT
END:VTIMEZONE
BEGIN:VEVENT
DTSTART;TZID=Pacific/Auckland:20251025T100000
DTEND;TZID=Pacific/Auckland:20251025T150000
DTSTAMP:20260420T001034
CREATED:20251003T085126Z
LAST-MODIFIED:20251122T074834Z
UID:1861-1761386400-1761404400@pitpilot.co.nz
SUMMARY:CRANK UP! 2025
DESCRIPTION:The Geraldine Vintage Car & Machinery Club members will be CRANKING UP! VINTAGE & CLASSIC:\n☞ Tractors\n☞ Vehicles\n☞ Machinery\n☞ Stationary Engines\n☞ Water Pumps\n☞ Hot air Pumps\nand anything else the members want to CRANK UP! on the day.\n☞ Vintage & Classic Car rides.\n☞ Sausage Sizzle.\n☞ Picnic Area & modern bathrooms.\nGreat Family day or Event of interest to any Vintage or Machinery enthusiast.
URL:https://pitpilot.co.nz/event/crank-up-2025/
END:VEVENT
END:VCALENDAR