BEGIN:VCALENDAR
VERSION:2.0
PRODID:-//Pit Pilot - ECPv6.15.20//NONSGML v1.0//EN
CALSCALE:GREGORIAN
METHOD:PUBLISH
X-WR-CALNAME:Pit Pilot
X-ORIGINAL-URL:https://pitpilot.co.nz
X-WR-CALDESC:Events for Pit Pilot
REFRESH-INTERVAL;VALUE=DURATION:PT1H
X-Robots-Tag:noindex
X-PUBLISHED-TTL:PT1H
BEGIN:VTIMEZONE
TZID:Pacific/Auckland
BEGIN:STANDARD
TZOFFSETFROM:+1300
TZOFFSETTO:+1200
TZNAME:NZST
DTSTART:20240406T140000
END:STANDARD
BEGIN:DAYLIGHT
TZOFFSETFROM:+1200
TZOFFSETTO:+1300
TZNAME:NZDT
DTSTART:20240928T140000
END:DAYLIGHT
BEGIN:STANDARD
TZOFFSETFROM:+1300
TZOFFSETTO:+1200
TZNAME:NZST
DTSTART:20250405T140000
END:STANDARD
BEGIN:DAYLIGHT
TZOFFSETFROM:+1200
TZOFFSETTO:+1300
TZNAME:NZDT
DTSTART:20250927T140000
END:DAYLIGHT
BEGIN:STANDARD
TZOFFSETFROM:+1300
TZOFFSETTO:+1200
TZNAME:NZST
DTSTART:20260404T140000
END:STANDARD
BEGIN:DAYLIGHT
TZOFFSETFROM:+1200
TZOFFSETTO:+1300
TZNAME:NZDT
DTSTART:20260926T140000
END:DAYLIGHT
END:VTIMEZONE
BEGIN:VEVENT
DTSTART;TZID=Pacific/Auckland:20251025T090000
DTEND;TZID=Pacific/Auckland:20251026T170000
DTSTAMP:20260420T001249
CREATED:20251003T085125Z
LAST-MODIFIED:20251122T074833Z
UID:1859-1761382800-1761498000@pitpilot.co.nz
SUMMARY:CT Civil Oranz National Series - Final 2025
DESCRIPTION:Waikato Off Road Racing Club in association with ORANZ and proud sponsors\, C T Civil\, V-DUB Shoppe\, Truck Fix and 4WD Bits\, bring you the 2025 NZ Off Road National Series Final held at Daltons Tect Park Raceway.\nSpectators Welcome\, Entry $20.00 for a car.\nSaturday\, 25th\, Short Course Racing.\n7am – Gates open\, 7:30-8:30 am – Pre race inspections\, 10:00am – Drivers briefing\, 11:00 am – First race starts.\nSunday 26th\, 150km Enduro\n8:30am – Drivers Briefing\, 10:00 – Enduro Race Starts
URL:https://pitpilot.co.nz/event/ct-civil-oranz-national-series-final-2025/
END:VEVENT
END:VCALENDAR