BEGIN:VCALENDAR
VERSION:2.0
PRODID:-//Pit Pilot - ECPv6.15.20//NONSGML v1.0//EN
CALSCALE:GREGORIAN
METHOD:PUBLISH
X-WR-CALNAME:Pit Pilot
X-ORIGINAL-URL:https://pitpilot.co.nz
X-WR-CALDESC:Events for Pit Pilot
REFRESH-INTERVAL;VALUE=DURATION:PT1H
X-Robots-Tag:noindex
X-PUBLISHED-TTL:PT1H
BEGIN:VTIMEZONE
TZID:Pacific/Auckland
BEGIN:STANDARD
TZOFFSETFROM:+1300
TZOFFSETTO:+1200
TZNAME:NZST
DTSTART:20240406T140000
END:STANDARD
BEGIN:DAYLIGHT
TZOFFSETFROM:+1200
TZOFFSETTO:+1300
TZNAME:NZDT
DTSTART:20240928T140000
END:DAYLIGHT
BEGIN:STANDARD
TZOFFSETFROM:+1300
TZOFFSETTO:+1200
TZNAME:NZST
DTSTART:20250405T140000
END:STANDARD
BEGIN:DAYLIGHT
TZOFFSETFROM:+1200
TZOFFSETTO:+1300
TZNAME:NZDT
DTSTART:20250927T140000
END:DAYLIGHT
BEGIN:STANDARD
TZOFFSETFROM:+1300
TZOFFSETTO:+1200
TZNAME:NZST
DTSTART:20260404T140000
END:STANDARD
BEGIN:DAYLIGHT
TZOFFSETFROM:+1200
TZOFFSETTO:+1300
TZNAME:NZDT
DTSTART:20260926T140000
END:DAYLIGHT
END:VTIMEZONE
BEGIN:VEVENT
DTSTART;TZID=Pacific/Auckland:20251112T073000
DTEND;TZID=Pacific/Auckland:20251112T160000
DTSTAMP:20260421T204615
CREATED:20251122T075956Z
LAST-MODIFIED:20251122T075956Z
UID:2817-1762932600-1762963200@pitpilot.co.nz
SUMMARY:Hooncorp Hump-Day Trackday
DESCRIPTION:The cost is $295 per driver\, which includes all fees and the track’s Safety levy.\nThis does NOT include garage spaces\, and a price of those will be available soon.\nAll entrants who do not use a garage\, will have parking provided.\nThis event is going to be run cautiously. As such\, there are more criteria than previously.\nWe can NOT accept dirt track cars\, speedway or any other type of vehicle\, other than road or race type cars.\nNo passengers in either road or race cars – period!\n(Rookie drivers or rookies to Hampton can participate in a controlled pre-event “duckling tour”)\nDrivers need either a road license (at least a restricted) or a competition license\nDrivers must wear good condition race overalls\, helmet\, neck restraint\, shoes and gloves.\nCars must be in safe condition\, and front + rear lights must work.\nNo rubbish or loose objects in the car. Battery must be secure.\nCar fire extinguishers are not mandatory\, but are welcome.\nSump plugs may be wired secure\, absolutely no fluid leaks will be allowed.\nWe can not run cars with slick tyres for obvious reasons.\nDriving standards must be very high\, the track manager’s decision re poor driving is final.\nWe will be running 4 x 15 minute sessions per hour.\nThe classes will be:\nSlow road car (slower than a 1.25)\nFast road car (roughly 1.18 – 1.25 )\nSlow race car (slower than a 1.25)\nFast race car (roughly 1.15 – 1.25)\nIf cars have no WOF or homologation\, they must be scrutineered before heading on track.\nWe are anticipating 15 – 20(max) cars per class\, and reserve the right to mix ‘ n ‘ match cars to make speeds as similar as possible.\nIf you are not sure which class your car should be in\, feel free to contact us.\nTo enter\, please contact us via Facebook or our text only line 0224872258 (don’t try to ring)\nIf we do not have sufficient entries by early October\, we will cancel\, and 100% refund any payments.\nWe will not refund no-shows\, and will work to help any participant to re-sell their spot if unable to attend.
URL:https://pitpilot.co.nz/event/hooncorp-hump-day-trackday/
LOCATION:Hampton Downs\, 20 Hampton Downs Road\, RD2\, Auckland\, Auckland\, 3782\, New Zealand
END:VEVENT
END:VCALENDAR