BEGIN:VCALENDAR
VERSION:2.0
PRODID:-//Pit Pilot - ECPv6.15.20//NONSGML v1.0//EN
CALSCALE:GREGORIAN
METHOD:PUBLISH
X-WR-CALNAME:Pit Pilot
X-ORIGINAL-URL:https://pitpilot.co.nz
X-WR-CALDESC:Events for Pit Pilot
REFRESH-INTERVAL;VALUE=DURATION:PT1H
X-Robots-Tag:noindex
X-PUBLISHED-TTL:PT1H
BEGIN:VTIMEZONE
TZID:Pacific/Auckland
BEGIN:STANDARD
TZOFFSETFROM:+1300
TZOFFSETTO:+1200
TZNAME:NZST
DTSTART:20240406T140000
END:STANDARD
BEGIN:DAYLIGHT
TZOFFSETFROM:+1200
TZOFFSETTO:+1300
TZNAME:NZDT
DTSTART:20240928T140000
END:DAYLIGHT
BEGIN:STANDARD
TZOFFSETFROM:+1300
TZOFFSETTO:+1200
TZNAME:NZST
DTSTART:20250405T140000
END:STANDARD
BEGIN:DAYLIGHT
TZOFFSETFROM:+1200
TZOFFSETTO:+1300
TZNAME:NZDT
DTSTART:20250927T140000
END:DAYLIGHT
BEGIN:STANDARD
TZOFFSETFROM:+1300
TZOFFSETTO:+1200
TZNAME:NZST
DTSTART:20260404T140000
END:STANDARD
BEGIN:DAYLIGHT
TZOFFSETFROM:+1200
TZOFFSETTO:+1300
TZNAME:NZDT
DTSTART:20260926T140000
END:DAYLIGHT
END:VTIMEZONE
BEGIN:VEVENT
DTSTART;TZID=Pacific/Auckland:20251129T100000
DTEND;TZID=Pacific/Auckland:20251129T100000
DTSTAMP:20260420T001152
CREATED:20251122T080217Z
LAST-MODIFIED:20251122T080217Z
UID:2861-1764410400-1764410400@pitpilot.co.nz
SUMMARY:HP Academy Coronet Peak Hill Climb
DESCRIPTION:Get ready for New Zealand’s most exciting motorsport event! The HP Academy Coronet Peak Hill Climb returns bigger and better than ever.\nWHAT TO EXPECT:\n🏁 Incredible machines tackling the mountain\n⚡ 3 sprint runs + Top 10 shootout finale\n📸 Perfect photo opportunities\n👨‍👩‍👧‍👦 Safe spectator areas for the whole family\nWHY YOU’LL LOVE IT:\n✅ FREE community event\n✅ Thrills for all ages\n✅ Challenging mountain track\n✅ Awesome Hill Climb & Time Attack cars\nDRIVERS: Expressions of interest now open!\nVOLUNTEERS: Join our crew and experience the action first-hand!\nSPECTATORS: Bring sunscreen\, layers\, and your camera!\nProudly run by the non-profit Queenstown Car Club – helping keep motorsport alive in our community.
URL:https://pitpilot.co.nz/event/hp-academy-coronet-peak-hill-climb/
END:VEVENT
END:VCALENDAR