BEGIN:VCALENDAR
VERSION:2.0
PRODID:-//Pit Pilot - ECPv6.15.20//NONSGML v1.0//EN
CALSCALE:GREGORIAN
METHOD:PUBLISH
X-WR-CALNAME:Pit Pilot
X-ORIGINAL-URL:https://pitpilot.co.nz
X-WR-CALDESC:Events for Pit Pilot
REFRESH-INTERVAL;VALUE=DURATION:PT1H
X-Robots-Tag:noindex
X-PUBLISHED-TTL:PT1H
BEGIN:VTIMEZONE
TZID:Pacific/Auckland
BEGIN:STANDARD
TZOFFSETFROM:+1300
TZOFFSETTO:+1200
TZNAME:NZST
DTSTART:20240406T140000
END:STANDARD
BEGIN:DAYLIGHT
TZOFFSETFROM:+1200
TZOFFSETTO:+1300
TZNAME:NZDT
DTSTART:20240928T140000
END:DAYLIGHT
BEGIN:STANDARD
TZOFFSETFROM:+1300
TZOFFSETTO:+1200
TZNAME:NZST
DTSTART:20250405T140000
END:STANDARD
BEGIN:DAYLIGHT
TZOFFSETFROM:+1200
TZOFFSETTO:+1300
TZNAME:NZDT
DTSTART:20250927T140000
END:DAYLIGHT
BEGIN:STANDARD
TZOFFSETFROM:+1300
TZOFFSETTO:+1200
TZNAME:NZST
DTSTART:20260404T140000
END:STANDARD
BEGIN:DAYLIGHT
TZOFFSETFROM:+1200
TZOFFSETTO:+1300
TZNAME:NZDT
DTSTART:20260926T140000
END:DAYLIGHT
END:VTIMEZONE
BEGIN:VEVENT
DTSTART;TZID=Pacific/Auckland:20251116T090000
DTEND;TZID=Pacific/Auckland:20251116T130000
DTSTAMP:20260420T015927
CREATED:20251003T084207Z
LAST-MODIFIED:20251122T074353Z
UID:1729-1763283600-1763298000@pitpilot.co.nz
SUMMARY:Mazda MX5 Club. Show N Shine 2025 Auckland
DESCRIPTION:MX-5 Show N Shine 2025 – Let’s Break the Record! 🚗💨 \nGet ready to polish\, pose\, and parade — because the MX-5 Club’s annual Show N Shine is back and bigger than ever! Last year’s turnout was epic… but this year\, we’re going full throttle to shatter that record. Whether you’re flaunting a classic NA\, a sleek ND\, or just coming to soak up the chrome and camaraderie\, this is the event you don’t want to miss. \nALL MX-5s WELCOME\nRoadsters\, Miatas\, RFs\, Soft Top\, Hard Top\, heavily modded… Bring it along! \nExpect:\n– Jaw-dropping MX-5s from every generation\n– Trophies and bragging rights for standout rides\n– Food\, music\, and good vibes\n– A chance to connect with fellow enthusiasts and celebrate the world’s most beloved roadster \nGot a mod you’re proud of? A story behind your MX-5? Bring it — and let it shine. \nDon’t forget your cameras. This year’s lineup will be one for the books. \nLet’s make 2025 the year we blow the roof off last year’s numbers. Rally your mates\, prep your ride\, and join us in Albany!
URL:https://pitpilot.co.nz/event/mazda-mx5-club-show-n-shine-2025-auckland/
END:VEVENT
END:VCALENDAR