BEGIN:VCALENDAR
VERSION:2.0
PRODID:-//Pit Pilot - ECPv6.15.20//NONSGML v1.0//EN
CALSCALE:GREGORIAN
METHOD:PUBLISH
X-WR-CALNAME:Pit Pilot
X-ORIGINAL-URL:https://pitpilot.co.nz
X-WR-CALDESC:Events for Pit Pilot
REFRESH-INTERVAL;VALUE=DURATION:PT1H
X-Robots-Tag:noindex
X-PUBLISHED-TTL:PT1H
BEGIN:VTIMEZONE
TZID:Pacific/Auckland
BEGIN:STANDARD
TZOFFSETFROM:+1300
TZOFFSETTO:+1200
TZNAME:NZST
DTSTART:20240406T140000
END:STANDARD
BEGIN:DAYLIGHT
TZOFFSETFROM:+1200
TZOFFSETTO:+1300
TZNAME:NZDT
DTSTART:20240928T140000
END:DAYLIGHT
BEGIN:STANDARD
TZOFFSETFROM:+1300
TZOFFSETTO:+1200
TZNAME:NZST
DTSTART:20250405T140000
END:STANDARD
BEGIN:DAYLIGHT
TZOFFSETFROM:+1200
TZOFFSETTO:+1300
TZNAME:NZDT
DTSTART:20250927T140000
END:DAYLIGHT
BEGIN:STANDARD
TZOFFSETFROM:+1300
TZOFFSETTO:+1200
TZNAME:NZST
DTSTART:20260404T140000
END:STANDARD
BEGIN:DAYLIGHT
TZOFFSETFROM:+1200
TZOFFSETTO:+1300
TZNAME:NZDT
DTSTART:20260926T140000
END:DAYLIGHT
END:VTIMEZONE
BEGIN:VEVENT
DTSTART;TZID=Pacific/Auckland:20251108T100000
DTEND;TZID=Pacific/Auckland:20251108T170000
DTSTAMP:20260420T014332
CREATED:20251122T075928Z
LAST-MODIFIED:20251122T075928Z
UID:2806-1762596000-1762621200@pitpilot.co.nz
SUMMARY:N2MODS Hardpark Track Cruise @ Showvember 2K25
DESCRIPTION:Bring on summer in the Manawatu with a bang!\nFeaturing:\nHardpark\nTrack cruise\nAll day drifting! Tandems\, drift train demonstrations.\nBacktrack Drift Practice\nTrade Stands welcome (email drift@manawatucarclub.org.nz)\n❗❕ LUNCH TIME TRACK CRUISE REQUIREMENTS ❕❗\n▪ Driver MUST sign an indemnity form and receive a wristband BEFORE entering the circuit.\n▪ Sign-in is in the track office near the hotdog stands (see pit plan)\n▪ You MUST make a donation to Manchester House Social Services at sign-in (either a non-perishable food donation or minimum $10.00)\n▪ WOF / REG ROAD CARS ONLY OR vehicles entered in either front or backtrack events. I will not permit unregistered POS boxes on track.\n▪ REMEMBER: It’s a cruise\, not a race! Anyone seen to be breaking the rules will be black flagged of the circuit and asked to leave immediately.\n▪ NO BURNOUTS\, NO STANDSTALLS\, NO DRIFTING!\n▪ No bikes allowed.\n▪ Children are allowed\, if car seats are required please make sure they are in them.\n▪ Track cruise will commence during the drifters lunch break just after 12:00pm\, please listen for your call to line up\n🚦 ENTER VIA SOUTH STREET / BRENDON HARTLEY DRIVE 🚦\nLooking forward to a good day out! Fingers crossed the suns out.
URL:https://pitpilot.co.nz/event/n2mods-hardpark-track-cruise-showvember-2k25/
LOCATION:Manfeild Circuit\, 59 South Street\, Feilding\, 4775\, New Zealand
END:VEVENT
END:VCALENDAR