BEGIN:VCALENDAR
VERSION:2.0
PRODID:-//Pit Pilot - ECPv6.15.20//NONSGML v1.0//EN
CALSCALE:GREGORIAN
METHOD:PUBLISH
X-WR-CALNAME:Pit Pilot
X-ORIGINAL-URL:https://pitpilot.co.nz
X-WR-CALDESC:Events for Pit Pilot
REFRESH-INTERVAL;VALUE=DURATION:PT1H
X-Robots-Tag:noindex
X-PUBLISHED-TTL:PT1H
BEGIN:VTIMEZONE
TZID:Pacific/Auckland
BEGIN:STANDARD
TZOFFSETFROM:+1300
TZOFFSETTO:+1200
TZNAME:NZST
DTSTART:20240406T140000
END:STANDARD
BEGIN:DAYLIGHT
TZOFFSETFROM:+1200
TZOFFSETTO:+1300
TZNAME:NZDT
DTSTART:20240928T140000
END:DAYLIGHT
BEGIN:STANDARD
TZOFFSETFROM:+1300
TZOFFSETTO:+1200
TZNAME:NZST
DTSTART:20250405T140000
END:STANDARD
BEGIN:DAYLIGHT
TZOFFSETFROM:+1200
TZOFFSETTO:+1300
TZNAME:NZDT
DTSTART:20250927T140000
END:DAYLIGHT
BEGIN:STANDARD
TZOFFSETFROM:+1300
TZOFFSETTO:+1200
TZNAME:NZST
DTSTART:20260404T140000
END:STANDARD
BEGIN:DAYLIGHT
TZOFFSETFROM:+1200
TZOFFSETTO:+1300
TZNAME:NZDT
DTSTART:20260926T140000
END:DAYLIGHT
END:VTIMEZONE
BEGIN:VEVENT
DTSTART;TZID=Pacific/Auckland:20251109T080000
DTEND;TZID=Pacific/Auckland:20251109T080000
DTSTAMP:20260421T203019
CREATED:20251122T075924Z
LAST-MODIFIED:20251122T075924Z
UID:2803-1762675200-1762675200@pitpilot.co.nz
SUMMARY:Napa Auto Parts Dragway Test and Tune 1
DESCRIPTION:As part of the NAPA Auto Parts Dragway Competition Series all competition vehicles are welcome to race in the following classes; Top Comp\, Pro Comp\, Super Comp\, Competition\, Competition Bike\, Super Sedan\, Mod Bike\, Super Street (incl Teen Championship Racing)\, Screamin’ Eagles and Junior Dragsters. (Street legal cars can race only in Super Street and street legal motorbikes can only race in either Modified Bike or Screamin’ Eagle).\nFor Top Comp\, Pro Comp\, Super Comp and Comp – all vehicles 10.99 and quicker must qualify together in class. At the conclusion of qualifying\, racers will be split into groups of Top 8 in Top Comp\, second 8 in Pro Comp and so on. All Comp classes will run DYO.\nCompetition Bike\, Super Sedan\, Modified Bike\, Super Street\, Screamin’ Eagle and Junior Dragster will run as normal.\nThe PROWEAR DRAG WARS class for our Drag Wars Jap Imports\, Euro and EV racers will qualify by ET\, run on 0.4 full tree\, race on DYO and have random racer return (Grudge). Please read the full rules for the class found on our webpage www.napaautopartsdragway.co.nz\nRacers – please have your civil drivers’ license\, drag racing license\, log book and IHRA NZ membership card (if applicable) with you when you come to Race Entry.\nGROUP 1 & GROUP 2 RACERS: Please ensure your vehicle has been weighed and that this weight is recorded in the relevant section of your log book before coming to Race Entry.\nCamping is available at track for racers and crew only. Please camp in the allocated camping area. NO camping in the Pits. Visit our Accommodation page on our webpage www.napaautopartsdragway.co.nz for full accommodation options including local motel/hotel options.
URL:https://pitpilot.co.nz/event/napa-auto-parts-dragway-test-and-tune-1-2/
LOCATION:Meremere Dragway\, Dragway Road\, Meremere\, 3782
END:VEVENT
END:VCALENDAR