BEGIN:VCALENDAR
VERSION:2.0
PRODID:-//Pit Pilot - ECPv6.15.20//NONSGML v1.0//EN
CALSCALE:GREGORIAN
METHOD:PUBLISH
X-WR-CALNAME:Pit Pilot
X-ORIGINAL-URL:https://pitpilot.co.nz
X-WR-CALDESC:Events for Pit Pilot
REFRESH-INTERVAL;VALUE=DURATION:PT1H
X-Robots-Tag:noindex
X-PUBLISHED-TTL:PT1H
BEGIN:VTIMEZONE
TZID:Pacific/Auckland
BEGIN:STANDARD
TZOFFSETFROM:+1300
TZOFFSETTO:+1200
TZNAME:NZST
DTSTART:20240406T140000
END:STANDARD
BEGIN:DAYLIGHT
TZOFFSETFROM:+1200
TZOFFSETTO:+1300
TZNAME:NZDT
DTSTART:20240928T140000
END:DAYLIGHT
BEGIN:STANDARD
TZOFFSETFROM:+1300
TZOFFSETTO:+1200
TZNAME:NZST
DTSTART:20250405T140000
END:STANDARD
BEGIN:DAYLIGHT
TZOFFSETFROM:+1200
TZOFFSETTO:+1300
TZNAME:NZDT
DTSTART:20250927T140000
END:DAYLIGHT
BEGIN:STANDARD
TZOFFSETFROM:+1300
TZOFFSETTO:+1200
TZNAME:NZST
DTSTART:20260404T140000
END:STANDARD
BEGIN:DAYLIGHT
TZOFFSETFROM:+1200
TZOFFSETTO:+1300
TZNAME:NZDT
DTSTART:20260926T140000
END:DAYLIGHT
END:VTIMEZONE
BEGIN:VEVENT
DTSTART;TZID=Pacific/Auckland:20251108T080000
DTEND;TZID=Pacific/Auckland:20251108T080000
DTSTAMP:20260421T210950
CREATED:20251122T075923Z
LAST-MODIFIED:20251122T075923Z
UID:2802-1762588800-1762588800@pitpilot.co.nz
SUMMARY:Napa Auto Parts Dragway Test and Tune 1
DESCRIPTION:Test and tune #1 & Competition Series Meeting #1\nWelcome back one and all! Let’s kick off the summer of racing with a bang. This first weekend of racing includes a Test & Tune on Saturday to blow off the winter cobwebs and shake out the dust.\nSunday sees qualifying and racing for the first round of our local NAPA Auto Parts Dragway track series with points and a half up for grabs. Let’s start as we mean to go on!\nSATURDAY TEST & TUNE: $10 Gate Entry – Children 12 under FREE
URL:https://pitpilot.co.nz/event/napa-auto-parts-dragway-test-and-tune-1/
LOCATION:Meremere Dragway\, Dragway Road\, Meremere\, 3782
END:VEVENT
END:VCALENDAR