BEGIN:VCALENDAR
VERSION:2.0
PRODID:-//Pit Pilot - ECPv6.15.20//NONSGML v1.0//EN
CALSCALE:GREGORIAN
METHOD:PUBLISH
X-WR-CALNAME:Pit Pilot
X-ORIGINAL-URL:https://pitpilot.co.nz
X-WR-CALDESC:Events for Pit Pilot
REFRESH-INTERVAL;VALUE=DURATION:PT1H
X-Robots-Tag:noindex
X-PUBLISHED-TTL:PT1H
BEGIN:VTIMEZONE
TZID:Pacific/Auckland
BEGIN:STANDARD
TZOFFSETFROM:+1300
TZOFFSETTO:+1200
TZNAME:NZST
DTSTART:20240406T140000
END:STANDARD
BEGIN:DAYLIGHT
TZOFFSETFROM:+1200
TZOFFSETTO:+1300
TZNAME:NZDT
DTSTART:20240928T140000
END:DAYLIGHT
BEGIN:STANDARD
TZOFFSETFROM:+1300
TZOFFSETTO:+1200
TZNAME:NZST
DTSTART:20250405T140000
END:STANDARD
BEGIN:DAYLIGHT
TZOFFSETFROM:+1200
TZOFFSETTO:+1300
TZNAME:NZDT
DTSTART:20250927T140000
END:DAYLIGHT
BEGIN:STANDARD
TZOFFSETFROM:+1300
TZOFFSETTO:+1200
TZNAME:NZST
DTSTART:20260404T140000
END:STANDARD
BEGIN:DAYLIGHT
TZOFFSETFROM:+1200
TZOFFSETTO:+1300
TZNAME:NZDT
DTSTART:20260926T140000
END:DAYLIGHT
END:VTIMEZONE
BEGIN:VEVENT
DTSTART;TZID=Pacific/Auckland:20251101T150000
DTEND;TZID=Pacific/Auckland:20251101T220000
DTSTAMP:20260420T001104
CREATED:20251122T075917Z
LAST-MODIFIED:20251122T075917Z
UID:2794-1762009200-1762034400@pitpilot.co.nz
SUMMARY:NRC Halloween 2025
DESCRIPTION:About the Meet\nHalloweens in full swing… Join us for a Post-Halloween Car Meet where the community comes together for a night of wicked whips\, costumes\, and candy. Think of it as a second chance to show off your car and your best Halloween fits (if you want).\n🕸️ What’s Happening:\nSpooktacular Cars Showcase – Dress up your ride (lights\, decals\, props… get creative!). Trick or Treat Car-to-Car – Bring some candy to share with the community! Photo Ops – Perfect spooky backdrops\, rollers\, and feature shots.\n⚠️ Meet Etiquette:\nNo skids\, no rev battles\, no burnouts – keep it respectful. Respect the spot\, no littering. Police & public friendly event – don’t ruin it for everyone.\n🔥 Whether you come to flex your ride\, grab some candy\, or just hang with the crew\, this meet’s about cars + community + good vibes.\n📷 Get your spooky fits and rides ready – we’ll be photographing the whole event!
URL:https://pitpilot.co.nz/event/nrc-halloween-2025/
END:VEVENT
END:VCALENDAR