BEGIN:VCALENDAR
VERSION:2.0
PRODID:-//Pit Pilot - ECPv6.15.20//NONSGML v1.0//EN
CALSCALE:GREGORIAN
METHOD:PUBLISH
X-WR-CALNAME:Pit Pilot
X-ORIGINAL-URL:https://pitpilot.co.nz
X-WR-CALDESC:Events for Pit Pilot
REFRESH-INTERVAL;VALUE=DURATION:PT1H
X-Robots-Tag:noindex
X-PUBLISHED-TTL:PT1H
BEGIN:VTIMEZONE
TZID:Pacific/Auckland
BEGIN:STANDARD
TZOFFSETFROM:+1300
TZOFFSETTO:+1200
TZNAME:NZST
DTSTART:20240406T140000
END:STANDARD
BEGIN:DAYLIGHT
TZOFFSETFROM:+1200
TZOFFSETTO:+1300
TZNAME:NZDT
DTSTART:20240928T140000
END:DAYLIGHT
BEGIN:STANDARD
TZOFFSETFROM:+1300
TZOFFSETTO:+1200
TZNAME:NZST
DTSTART:20250405T140000
END:STANDARD
BEGIN:DAYLIGHT
TZOFFSETFROM:+1200
TZOFFSETTO:+1300
TZNAME:NZDT
DTSTART:20250927T140000
END:DAYLIGHT
BEGIN:STANDARD
TZOFFSETFROM:+1300
TZOFFSETTO:+1200
TZNAME:NZST
DTSTART:20260404T140000
END:STANDARD
BEGIN:DAYLIGHT
TZOFFSETFROM:+1200
TZOFFSETTO:+1300
TZNAME:NZDT
DTSTART:20260926T140000
END:DAYLIGHT
END:VTIMEZONE
BEGIN:VEVENT
DTSTART;TZID=Pacific/Auckland:20251026T090000
DTEND;TZID=Pacific/Auckland:20251026T120000
DTSTAMP:20260420T001155
CREATED:20251003T085411Z
LAST-MODIFIED:20251122T074947Z
UID:1897-1761469200-1761480000@pitpilot.co.nz
SUMMARY:October Cars & Coffee featuring BMW
DESCRIPTION:The October Cars & Coffee Christchurch will be held on the Sunday 26th Oct\, with all things BMW being featured out in front of Spectators Cafe.\nAll other brands welcome as there is plenty of sealed car parking. The Avid lawn trackside will be open also.\nPlease bring the dog and kids along\, enjoy a coffee and bacon sandwich.
URL:https://pitpilot.co.nz/event/october-cars-coffee-featuring-bmw/
END:VEVENT
END:VCALENDAR