BEGIN:VCALENDAR
VERSION:2.0
PRODID:-//Pit Pilot - ECPv6.15.20//NONSGML v1.0//EN
CALSCALE:GREGORIAN
METHOD:PUBLISH
X-WR-CALNAME:Pit Pilot
X-ORIGINAL-URL:https://pitpilot.co.nz
X-WR-CALDESC:Events for Pit Pilot
REFRESH-INTERVAL;VALUE=DURATION:PT1H
X-Robots-Tag:noindex
X-PUBLISHED-TTL:PT1H
BEGIN:VTIMEZONE
TZID:Pacific/Auckland
BEGIN:STANDARD
TZOFFSETFROM:+1300
TZOFFSETTO:+1200
TZNAME:NZST
DTSTART:20240406T140000
END:STANDARD
BEGIN:DAYLIGHT
TZOFFSETFROM:+1200
TZOFFSETTO:+1300
TZNAME:NZDT
DTSTART:20240928T140000
END:DAYLIGHT
BEGIN:STANDARD
TZOFFSETFROM:+1300
TZOFFSETTO:+1200
TZNAME:NZST
DTSTART:20250405T140000
END:STANDARD
BEGIN:DAYLIGHT
TZOFFSETFROM:+1200
TZOFFSETTO:+1300
TZNAME:NZDT
DTSTART:20250927T140000
END:DAYLIGHT
BEGIN:STANDARD
TZOFFSETFROM:+1300
TZOFFSETTO:+1200
TZNAME:NZST
DTSTART:20260404T140000
END:STANDARD
BEGIN:DAYLIGHT
TZOFFSETFROM:+1200
TZOFFSETTO:+1300
TZNAME:NZDT
DTSTART:20260926T140000
END:DAYLIGHT
END:VTIMEZONE
BEGIN:VEVENT
DTSTART;TZID=Pacific/Auckland:20251116T110000
DTEND;TZID=Pacific/Auckland:20251116T150000
DTSTAMP:20260420T001250
CREATED:20251122T080046Z
LAST-MODIFIED:20251122T080046Z
UID:2841-1763290800-1763305200@pitpilot.co.nz
SUMMARY:Off road Ute & 4x4 Truck Show
DESCRIPTION:FUNDRAISING GOAL $5000 for Hawera Clubs new roof!\nNovember 16th – 11am\nMeeting at the Hawera Club before hand\nHow long does it take: Approx 2.5 – 3 hours\nCar Entry $50 – Tickets at the Bar (Cash Sales)\n(including as many as you can legally fit in your car)\nExtras:\nBrunch (Buffet) from 9.30am\n$25 per person – Bookings essential\nRaffles will be for sale\, remember this is a fundraiser so please bring your coins.\n[[[[ WE NEED SPONSERS FOR THE DAY\, THE BOOKLET & THE PRIZES – PLEASE CONTACT US IF YOU CAN HELP ]]]] \nON THE DAY!\nWith your mission pack you will travel the roads of South Taranaki\, answer some crazy questions and complete missions\, think – what color is that letter box \, take a photo Infront of this \, find the number of that\, where’s the ice-cream stop\, where’s the next petrol station! This will keep your entire car entertained while we wind our war through our beautiful region.\nTickets:\nWhat do you get for your ticket.\n*Entry to our Car Rally/Scavenger Hunt for as many people as you can legally fit in your vehicle\n*Our 1st annual sticker for your car window\nAfter you have purchased your ticket:\nMake sure you book in for brunch and gather your crew to have one amazing day with family or friends\nCheck back here for any updates if needed or contact us via private message\, always feel free to reach out to us!\n_-_-_-_-_-_-_-_-_-_-_-_-_-_-_-_-_-_-_-_-_-_-_-_-_-_-_-_-_-_-_-_-_-_-_-\nNever done a Car Rally/Scavenger Hunt before and are not sure what to expect?\nFirst of all\, bring your sense of humor. The cars\, well it really doesn’t matter what you bring. come along for a fun filled day.\nNo matter what\, you’re in you have fun the day\, this is about points\, not speed. You get points by answering the questions\, taking photos & not driving like a moron.\nAfter the event we meet back at Hawera Club – Drinks & Bar snacks will be available for purchase while we count up your points and have prize giving.
URL:https://pitpilot.co.nz/event/off-road-ute-4x4-truck-show/
END:VEVENT
END:VCALENDAR