BEGIN:VCALENDAR
VERSION:2.0
PRODID:-//Pit Pilot - ECPv6.15.20//NONSGML v1.0//EN
CALSCALE:GREGORIAN
METHOD:PUBLISH
X-WR-CALNAME:Pit Pilot
X-ORIGINAL-URL:https://pitpilot.co.nz
X-WR-CALDESC:Events for Pit Pilot
REFRESH-INTERVAL;VALUE=DURATION:PT1H
X-Robots-Tag:noindex
X-PUBLISHED-TTL:PT1H
BEGIN:VTIMEZONE
TZID:Pacific/Auckland
BEGIN:STANDARD
TZOFFSETFROM:+1300
TZOFFSETTO:+1200
TZNAME:NZST
DTSTART:20240406T140000
END:STANDARD
BEGIN:DAYLIGHT
TZOFFSETFROM:+1200
TZOFFSETTO:+1300
TZNAME:NZDT
DTSTART:20240928T140000
END:DAYLIGHT
BEGIN:STANDARD
TZOFFSETFROM:+1300
TZOFFSETTO:+1200
TZNAME:NZST
DTSTART:20250405T140000
END:STANDARD
BEGIN:DAYLIGHT
TZOFFSETFROM:+1200
TZOFFSETTO:+1300
TZNAME:NZDT
DTSTART:20250927T140000
END:DAYLIGHT
BEGIN:STANDARD
TZOFFSETFROM:+1300
TZOFFSETTO:+1200
TZNAME:NZST
DTSTART:20260404T140000
END:STANDARD
BEGIN:DAYLIGHT
TZOFFSETFROM:+1200
TZOFFSETTO:+1300
TZNAME:NZDT
DTSTART:20260926T140000
END:DAYLIGHT
END:VTIMEZONE
BEGIN:VEVENT
DTSTART;TZID=Pacific/Auckland:20251130T110000
DTEND;TZID=Pacific/Auckland:20251130T150000
DTSTAMP:20260421T220238
CREATED:20251122T080216Z
LAST-MODIFIED:20251122T080216Z
UID:2859-1764500400-1764514800@pitpilot.co.nz
SUMMARY:Park Up for Hunger v2: Rotationals X Downtime
DESCRIPTION:**THIS HUGE CAR MEET IS A FOOD DRIVE FOR CHARITY!**\nWith the support of The Salvation Army Hamilton\, you\, me\, and hundreds of others will be donating crucial food supplies to our fellow Kiwis living in POVERTY\, going without basic necessities right now.\nOur last food drive gathered a crazy 1050kg of food\, and we want to beat that milestone with this event!\n–\nTO ENTER THIS CAR MEET:\nAll you need to do is bring a decent can of food\, a bag of dry rice\, dry pasta\, or other non-perishable food.\nThat even stretches to toiletries for adults or babies\, and toys for young kids.\nThere are fellow New Zealanders out there seriously struggling to make ends meet. It’s still a growing trend in NZ\, so let’s try to do something about it.\n–\nWHO CAN ENTER?\nWe welcome cool cars from all backgrounds – JDM\, USA\, Euro\, new\, old\, ancient\, stock\, modified etc. If car enthusiasts will get a kick out of seeing your car\, bring it along!\nSpectators are free – but please consider bringing food along to donate.\n–\nBOWDEN’S OWN SHOW AND SHINE\nThere will be a Show and Shine sponsored by the legends at Bowden’s Own\, with $500 worth of prizes up for grabs! Any car that comes along is entered\, as we find finalists through photos after the event.\nWe run this on our @rotationals Instagram story\, with voting polls to find the winners going up a couple of days after the event. Find us on there and take part!\n–\nWHAT ELSE?\nDJs: We’ll have the @Select_FM team on the decks\, playing a wide range of tunes.\nFood & drinks: There will be various options for food and drinks!\nToilets & bins: Located at the venue of course.\nVenue: Innes Common is a beautiful lakeside venue in Hamilton with great facilities\, lots of shade\, and even playgrounds nearby for the kids – it’s a great place to be.\nIf you’d like to support us and what we do\, you can grab our stickers and t-shirts at the event – it makes this all possible; it ain’t cheap to run!\nSo grab your mates\, grab your family\, and come over to Innes Common Domain\, Hamilton\, on Sunday 30th of November\, because this is a Rotationals X Downtime Entertainment meet you won’t want to miss!\n–\nLOCATION / TIMING\nLocation: Innes Common Domain\, Hamilton – a map will be posted to the event discussion page near the date.\nDate: Sunday 30th November\, 2025\nTime: 11am to 3pm\nCar Entry: Bring any car that someone with an interest in cars would enjoy. Cans/Rice/Pasta/Food/New Toy donation required to enter.\nSpectator Entry: Free\, but please take part by donating too!\nThis is event #2 for Park Up for Hunger\, a collaboration between Downtime Entertainment and Rotationals.\n–\nSKIDS/ANTISOCIAL BEHAVIOUR:\nThis is council property\, and we are running a ZERO TOLERANCE setup for this event. We won’t allow any risks.\nIf you skid\, or act dangerously\, we WILL find video of it\, and it will be passed on to the NZ Police for you to lose your license. There’s a time and a place\, this is NOT that time. It’s also a charity event\, so don’t be a muppet…\nAnyway – it’s going to be a massive day\, see y’all there!
URL:https://pitpilot.co.nz/event/park-up-for-hunger-v2-rotationals-x-downtime/
END:VEVENT
END:VCALENDAR