BEGIN:VCALENDAR
VERSION:2.0
PRODID:-//Pit Pilot - ECPv6.15.20//NONSGML v1.0//EN
CALSCALE:GREGORIAN
METHOD:PUBLISH
X-WR-CALNAME:Pit Pilot
X-ORIGINAL-URL:https://pitpilot.co.nz
X-WR-CALDESC:Events for Pit Pilot
REFRESH-INTERVAL;VALUE=DURATION:PT1H
X-Robots-Tag:noindex
X-PUBLISHED-TTL:PT1H
BEGIN:VTIMEZONE
TZID:Pacific/Auckland
BEGIN:STANDARD
TZOFFSETFROM:+1300
TZOFFSETTO:+1200
TZNAME:NZST
DTSTART:20240406T140000
END:STANDARD
BEGIN:DAYLIGHT
TZOFFSETFROM:+1200
TZOFFSETTO:+1300
TZNAME:NZDT
DTSTART:20240928T140000
END:DAYLIGHT
BEGIN:STANDARD
TZOFFSETFROM:+1300
TZOFFSETTO:+1200
TZNAME:NZST
DTSTART:20250405T140000
END:STANDARD
BEGIN:DAYLIGHT
TZOFFSETFROM:+1200
TZOFFSETTO:+1300
TZNAME:NZDT
DTSTART:20250927T140000
END:DAYLIGHT
BEGIN:STANDARD
TZOFFSETFROM:+1300
TZOFFSETTO:+1200
TZNAME:NZST
DTSTART:20260404T140000
END:STANDARD
BEGIN:DAYLIGHT
TZOFFSETFROM:+1200
TZOFFSETTO:+1300
TZNAME:NZDT
DTSTART:20260926T140000
END:DAYLIGHT
END:VTIMEZONE
BEGIN:VEVENT
DTSTART;TZID=Pacific/Auckland:20250930T100000
DTEND;TZID=Pacific/Auckland:20250930T150000
DTSTAMP:20260421T215947
CREATED:20250928T081238Z
LAST-MODIFIED:20251122T074126Z
UID:1546-1759226400-1759244400@pitpilot.co.nz
SUMMARY:Race 4 Life
DESCRIPTION:The Race 4 Life Trust is heading to Hampton Downs on Tuesday\, 30 September 2025\, for another unforgettable track‑day event! \nThe Race4Life Trust\, established in 2015\, is New Zealand’s only registered charity exclusively dedicated to fulfilling the wishes of adults (18+) in palliative care. Originally born out of a grassroots track day event in 2008 in Pukekohe\, the trust evolved into a formal organisation to grant once‑in‑a‑lifetime experiences\, ranging from high‑speed car rides and helicopter flights to special family outings for those with life‑limiting illnesses and their loved ones
URL:https://pitpilot.co.nz/event/race-4-life/
LOCATION:Hampton Downs\, 20 Hampton Downs Road\, RD2\, Auckland\, Auckland\, 3782\, New Zealand
ATTACH;FMTTYPE=image/png:https://pitpilot.co.nz/wp-content/uploads/2025/11/TARGA-2-1448x2048-YtmsWv.png
END:VEVENT
END:VCALENDAR