BEGIN:VCALENDAR
VERSION:2.0
PRODID:-//Pit Pilot - ECPv6.15.20//NONSGML v1.0//EN
CALSCALE:GREGORIAN
METHOD:PUBLISH
X-WR-CALNAME:Pit Pilot
X-ORIGINAL-URL:https://pitpilot.co.nz
X-WR-CALDESC:Events for Pit Pilot
REFRESH-INTERVAL;VALUE=DURATION:PT1H
X-Robots-Tag:noindex
X-PUBLISHED-TTL:PT1H
BEGIN:VTIMEZONE
TZID:Pacific/Auckland
BEGIN:STANDARD
TZOFFSETFROM:+1300
TZOFFSETTO:+1200
TZNAME:NZST
DTSTART:20240406T140000
END:STANDARD
BEGIN:DAYLIGHT
TZOFFSETFROM:+1200
TZOFFSETTO:+1300
TZNAME:NZDT
DTSTART:20240928T140000
END:DAYLIGHT
BEGIN:STANDARD
TZOFFSETFROM:+1300
TZOFFSETTO:+1200
TZNAME:NZST
DTSTART:20250405T140000
END:STANDARD
BEGIN:DAYLIGHT
TZOFFSETFROM:+1200
TZOFFSETTO:+1300
TZNAME:NZDT
DTSTART:20250927T140000
END:DAYLIGHT
BEGIN:STANDARD
TZOFFSETFROM:+1300
TZOFFSETTO:+1200
TZNAME:NZST
DTSTART:20260404T140000
END:STANDARD
BEGIN:DAYLIGHT
TZOFFSETFROM:+1200
TZOFFSETTO:+1300
TZNAME:NZDT
DTSTART:20260926T140000
END:DAYLIGHT
END:VTIMEZONE
BEGIN:VEVENT
DTSTART;TZID=Pacific/Auckland:20251130T090000
DTEND;TZID=Pacific/Auckland:20251130T160000
DTSTAMP:20260420T014330
CREATED:20251122T080126Z
LAST-MODIFIED:20251122T080126Z
UID:2857-1764493200-1764518400@pitpilot.co.nz
SUMMARY:Retro America Capital Cruise Queen & Best Dressed Competition
DESCRIPTION:Capital Cruise is proud to present our very first Capital Cruise Queen and best dressed competition proudly sponsored by Retro America\nBEST DRESSED COMPETITION-\nWear you best pinup/ rockabilly look\nopen to everyone!\nHeld at Capital Cruise Park up car show\nEnter on the day 9.45am at Cruise HQ\nBest Dressed Lady\nBest Dressed Gentleman\nBest Dressed Boy & Girl (12 years & younger )\nCAPITAL CRUISE QUEEN:\nCalling all professional pinup ladies\nThe winner of Capital Cruise Queen will\nWin a Hair\, Makeup and Photography package with Ruby Retro with an editoral in a NZ Magazine.\nOur winner will also be the face of Capital Cruise Queen 2026\, poster and all advertising\nto enter please provide three photos and a short Bio to capitalcruise@xtra.co.nz\napplications close 21 September\nfinalists announced 28 September\nREGISTRATIONS ARE OPEN\nThe top five Finalists will complete for the title of Retro America Capital Cruise Queen at our Sunday parkup car show\ntwo looks will be presented on stage\, rockabilly and pinup with a q&a section by our MC
URL:https://pitpilot.co.nz/event/retro-america-capital-cruise-queen-best-dressed-competition/
END:VEVENT
END:VCALENDAR