BEGIN:VCALENDAR
VERSION:2.0
PRODID:-//Pit Pilot - ECPv6.15.20//NONSGML v1.0//EN
CALSCALE:GREGORIAN
METHOD:PUBLISH
X-WR-CALNAME:Pit Pilot
X-ORIGINAL-URL:https://pitpilot.co.nz
X-WR-CALDESC:Events for Pit Pilot
REFRESH-INTERVAL;VALUE=DURATION:PT1H
X-Robots-Tag:noindex
X-PUBLISHED-TTL:PT1H
BEGIN:VTIMEZONE
TZID:Pacific/Auckland
BEGIN:STANDARD
TZOFFSETFROM:+1300
TZOFFSETTO:+1200
TZNAME:NZST
DTSTART:20240406T140000
END:STANDARD
BEGIN:DAYLIGHT
TZOFFSETFROM:+1200
TZOFFSETTO:+1300
TZNAME:NZDT
DTSTART:20240928T140000
END:DAYLIGHT
BEGIN:STANDARD
TZOFFSETFROM:+1300
TZOFFSETTO:+1200
TZNAME:NZST
DTSTART:20250405T140000
END:STANDARD
BEGIN:DAYLIGHT
TZOFFSETFROM:+1200
TZOFFSETTO:+1300
TZNAME:NZDT
DTSTART:20250927T140000
END:DAYLIGHT
BEGIN:STANDARD
TZOFFSETFROM:+1300
TZOFFSETTO:+1200
TZNAME:NZST
DTSTART:20260404T140000
END:STANDARD
BEGIN:DAYLIGHT
TZOFFSETFROM:+1200
TZOFFSETTO:+1300
TZNAME:NZDT
DTSTART:20260926T140000
END:DAYLIGHT
END:VTIMEZONE
BEGIN:VEVENT
DTSTART;TZID=Pacific/Auckland:20251116T083000
DTEND;TZID=Pacific/Auckland:20251116T173000
DTSTAMP:20260421T204612
CREATED:20251122T080011Z
LAST-MODIFIED:20251122T080015Z
UID:2825-1763281800-1763314200@pitpilot.co.nz
SUMMARY:Riders Supporting Kids 2025 Toy Run
DESCRIPTION:🎅 Riders Supporting Kids – Toy Run 2025 🎁\nGet ready for our biggest Toy Run yet — more toys\, more noise\, more heart!\nJoin us as we ride to bring smiles to kids across our community. All toys collected will be donated to Barnardos to support children who need them most.\n🗓 Date: November 16th 2025\n📍 Start Location: The Warehouse\, Palmerston North\n🕣 Registration: From 8:30 AM\n🏍 Stands Up: 10:00 AM sharp\nWe’ll ride to The Supply Room\, Mana for lunch\, then head back to Palmerston North Campground for an afternoon of festivities\, fun\, and our epic prize-giving!\nThouands of $$$ from sponsorships on Spot Prizes and give aways for in the day!!!!\n🎁 MAJOR PRIZE ALERT!\nThanks to the amazing team at Honda Levin\, one lucky rider will take home a brand new CRF50 on the day!\nBring a toy\, bring your mates\, and help us make a difference — one ride at a time.\nR.i.S.K Toy Run 2025 you won’t want to miss out!!
URL:https://pitpilot.co.nz/event/riders-supporting-kids-2025-toy-run/
END:VEVENT
END:VCALENDAR