BEGIN:VCALENDAR
VERSION:2.0
PRODID:-//Pit Pilot - ECPv6.15.20//NONSGML v1.0//EN
CALSCALE:GREGORIAN
METHOD:PUBLISH
X-WR-CALNAME:Pit Pilot
X-ORIGINAL-URL:https://pitpilot.co.nz
X-WR-CALDESC:Events for Pit Pilot
REFRESH-INTERVAL;VALUE=DURATION:PT1H
X-Robots-Tag:noindex
X-PUBLISHED-TTL:PT1H
BEGIN:VTIMEZONE
TZID:Pacific/Auckland
BEGIN:STANDARD
TZOFFSETFROM:+1300
TZOFFSETTO:+1200
TZNAME:NZST
DTSTART:20240406T140000
END:STANDARD
BEGIN:DAYLIGHT
TZOFFSETFROM:+1200
TZOFFSETTO:+1300
TZNAME:NZDT
DTSTART:20240928T140000
END:DAYLIGHT
BEGIN:STANDARD
TZOFFSETFROM:+1300
TZOFFSETTO:+1200
TZNAME:NZST
DTSTART:20250405T140000
END:STANDARD
BEGIN:DAYLIGHT
TZOFFSETFROM:+1200
TZOFFSETTO:+1300
TZNAME:NZDT
DTSTART:20250927T140000
END:DAYLIGHT
BEGIN:STANDARD
TZOFFSETFROM:+1300
TZOFFSETTO:+1200
TZNAME:NZST
DTSTART:20260404T140000
END:STANDARD
BEGIN:DAYLIGHT
TZOFFSETFROM:+1200
TZOFFSETTO:+1300
TZNAME:NZDT
DTSTART:20260926T140000
END:DAYLIGHT
END:VTIMEZONE
BEGIN:VEVENT
DTSTART;TZID=Pacific/Auckland:20251018T090000
DTEND;TZID=Pacific/Auckland:20251018T170000
DTSTAMP:20260420T001154
CREATED:20251003T084220Z
LAST-MODIFIED:20251122T074410Z
UID:1732-1760778000-1760806800@pitpilot.co.nz
SUMMARY:South Island Endurance Series R3
DESCRIPTION:The grand finale of the 2025 South Island Endurance Series. Get ready for a day of competitive endurance racing\, featuring two action-packed 1 Hour races and a 3 Hour Endurance showdown. \nTicket Information‍ \nTickets are $40 per person and Kids 16 and under are FREE. Gates open from 8am and track action starts from 9am.\nEvery ticket includes entry into the National Motorsport Museum\, Young Guns Virtual Reality Room & Loo with a View!
URL:https://pitpilot.co.nz/event/south-island-endurance-series-r3/
LOCATION:Highlands Motorsport Park\, Corner SH6 and Sandflat Road\, Sandflat Road\, Cromwell\, 9384\, New Zealand
ATTACH;FMTTYPE=image/png:https://pitpilot.co.nz/wp-content/uploads/2025/11/image-py7ImB-scaled.png
END:VEVENT
END:VCALENDAR