BEGIN:VCALENDAR
VERSION:2.0
PRODID:-//Pit Pilot - ECPv6.15.20//NONSGML v1.0//EN
CALSCALE:GREGORIAN
METHOD:PUBLISH
X-WR-CALNAME:Pit Pilot
X-ORIGINAL-URL:https://pitpilot.co.nz
X-WR-CALDESC:Events for Pit Pilot
REFRESH-INTERVAL;VALUE=DURATION:PT1H
X-Robots-Tag:noindex
X-PUBLISHED-TTL:PT1H
BEGIN:VTIMEZONE
TZID:Pacific/Auckland
BEGIN:STANDARD
TZOFFSETFROM:+1300
TZOFFSETTO:+1200
TZNAME:NZST
DTSTART:20240406T140000
END:STANDARD
BEGIN:DAYLIGHT
TZOFFSETFROM:+1200
TZOFFSETTO:+1300
TZNAME:NZDT
DTSTART:20240928T140000
END:DAYLIGHT
BEGIN:STANDARD
TZOFFSETFROM:+1300
TZOFFSETTO:+1200
TZNAME:NZST
DTSTART:20250405T140000
END:STANDARD
BEGIN:DAYLIGHT
TZOFFSETFROM:+1200
TZOFFSETTO:+1300
TZNAME:NZDT
DTSTART:20250927T140000
END:DAYLIGHT
BEGIN:STANDARD
TZOFFSETFROM:+1300
TZOFFSETTO:+1200
TZNAME:NZST
DTSTART:20260404T140000
END:STANDARD
BEGIN:DAYLIGHT
TZOFFSETFROM:+1200
TZOFFSETTO:+1300
TZNAME:NZDT
DTSTART:20260926T140000
END:DAYLIGHT
END:VTIMEZONE
BEGIN:VEVENT
DTSTART;TZID=Pacific/Auckland:20251008T180000
DTEND;TZID=Pacific/Auckland:20251008T210000
DTSTAMP:20260420T014047
CREATED:20251003T084422Z
LAST-MODIFIED:20251122T074625Z
UID:1794-1759946400-1759957200@pitpilot.co.nz
SUMMARY:Twilight Rides (Full Moon Ride) - Harley Davidson
DESCRIPTION:Twilight Rides are back! 🏍️\nStarting 8th October join us fortnightly at Harley-Davidson Feilding for twilight rides.\nWe’ve got two groups to suit every rider:\n🔥 Advanced Group – for experienced riders\n🔥 New Rider Group – relaxed pace for those building confidence\nRide into the sunset with us 🌇\nAll bikes & riders welcome!\n*Twilight rides start on October 8th then fortnightly until further notice (22/10\, 5/11\, 19/11) etc.
URL:https://pitpilot.co.nz/event/twilight-rides-full-moon-ride-harley-davidson/
END:VEVENT
END:VCALENDAR