BEGIN:VCALENDAR
VERSION:2.0
PRODID:-//Pit Pilot - ECPv6.15.20//NONSGML v1.0//EN
CALSCALE:GREGORIAN
METHOD:PUBLISH
X-WR-CALNAME:Pit Pilot
X-ORIGINAL-URL:https://pitpilot.co.nz
X-WR-CALDESC:Events for Pit Pilot
REFRESH-INTERVAL;VALUE=DURATION:PT1H
X-Robots-Tag:noindex
X-PUBLISHED-TTL:PT1H
BEGIN:VTIMEZONE
TZID:Pacific/Auckland
BEGIN:STANDARD
TZOFFSETFROM:+1300
TZOFFSETTO:+1200
TZNAME:NZST
DTSTART:20240406T140000
END:STANDARD
BEGIN:DAYLIGHT
TZOFFSETFROM:+1200
TZOFFSETTO:+1300
TZNAME:NZDT
DTSTART:20240928T140000
END:DAYLIGHT
BEGIN:STANDARD
TZOFFSETFROM:+1300
TZOFFSETTO:+1200
TZNAME:NZST
DTSTART:20250405T140000
END:STANDARD
BEGIN:DAYLIGHT
TZOFFSETFROM:+1200
TZOFFSETTO:+1300
TZNAME:NZDT
DTSTART:20250927T140000
END:DAYLIGHT
BEGIN:STANDARD
TZOFFSETFROM:+1300
TZOFFSETTO:+1200
TZNAME:NZST
DTSTART:20260404T140000
END:STANDARD
BEGIN:DAYLIGHT
TZOFFSETFROM:+1200
TZOFFSETTO:+1300
TZNAME:NZDT
DTSTART:20260926T140000
END:DAYLIGHT
END:VTIMEZONE
BEGIN:VEVENT
DTSTART;TZID=Pacific/Auckland:20251108T110000
DTEND;TZID=Pacific/Auckland:20251108T140000
DTSTAMP:20260420T001208
CREATED:20251122T075928Z
LAST-MODIFIED:20251122T075928Z
UID:2808-1762599600-1762610400@pitpilot.co.nz
SUMMARY:Wrap Innovations Cars and Coffee
DESCRIPTION:After last year’s amazing turnout we’re excited to invite you to our Cars & Coffee on Saturday\, November 8th\, from 10:00am to 1:00pm. It’s going to be a fantastic morning\, packed with cool cars\, great company\, and plenty of fun.\nWe’ve got some awesome rides lined up\, plus:\n🎟 Raffles & Competitions—Your chance to win some great prizes.\n🛍 Merch & More—Pick up exclusive Wrap Innovations gear and car care products.\n☕️ Snacks & Coffee—Grab a coffee and some snacks while you check out the cars.\n🚘 After event we will cruising to Kapiti for anyone who would like to join the convoy!\nBring your friends\, family\, dogs\, and your love for cars. We can’t wait to see you there!\nPlease remember to be respectful no speeding or burnouts in the complex. This is a family friendly event!
URL:https://pitpilot.co.nz/event/wrap-innovations-cars-and-coffee/
END:VEVENT
END:VCALENDAR