BEGIN:VCALENDAR
VERSION:2.0
PRODID:-//Pit Pilot - ECPv6.15.20//NONSGML v1.0//EN
CALSCALE:GREGORIAN
METHOD:PUBLISH
X-WR-CALNAME:Pit Pilot
X-ORIGINAL-URL:https://pitpilot.co.nz
X-WR-CALDESC:Events for Pit Pilot
REFRESH-INTERVAL;VALUE=DURATION:PT1H
X-Robots-Tag:noindex
X-PUBLISHED-TTL:PT1H
BEGIN:VTIMEZONE
TZID:Pacific/Auckland
BEGIN:DAYLIGHT
TZOFFSETFROM:+1200
TZOFFSETTO:+1300
TZNAME:NZDT
DTSTART:19741102T140000
END:DAYLIGHT
BEGIN:STANDARD
TZOFFSETFROM:+1300
TZOFFSETTO:+1200
TZNAME:NZST
DTSTART:19750222T140000
END:STANDARD
BEGIN:DAYLIGHT
TZOFFSETFROM:+1200
TZOFFSETTO:+1300
TZNAME:NZDT
DTSTART:19751025T140000
END:DAYLIGHT
BEGIN:STANDARD
TZOFFSETFROM:+1300
TZOFFSETTO:+1200
TZNAME:NZST
DTSTART:19760306T140000
END:STANDARD
BEGIN:DAYLIGHT
TZOFFSETFROM:+1200
TZOFFSETTO:+1300
TZNAME:NZDT
DTSTART:19761030T140000
END:DAYLIGHT
BEGIN:STANDARD
TZOFFSETFROM:+1300
TZOFFSETTO:+1200
TZNAME:NZST
DTSTART:19770305T140000
END:STANDARD
BEGIN:DAYLIGHT
TZOFFSETFROM:+1200
TZOFFSETTO:+1300
TZNAME:NZDT
DTSTART:19771029T140000
END:DAYLIGHT
BEGIN:STANDARD
TZOFFSETFROM:+1300
TZOFFSETTO:+1200
TZNAME:NZST
DTSTART:19780304T140000
END:STANDARD
BEGIN:DAYLIGHT
TZOFFSETFROM:+1200
TZOFFSETTO:+1300
TZNAME:NZDT
DTSTART:19781028T140000
END:DAYLIGHT
BEGIN:STANDARD
TZOFFSETFROM:+1300
TZOFFSETTO:+1200
TZNAME:NZST
DTSTART:19790303T140000
END:STANDARD
BEGIN:DAYLIGHT
TZOFFSETFROM:+1200
TZOFFSETTO:+1300
TZNAME:NZDT
DTSTART:19791027T140000
END:DAYLIGHT
BEGIN:STANDARD
TZOFFSETFROM:+1300
TZOFFSETTO:+1200
TZNAME:NZST
DTSTART:19800301T140000
END:STANDARD
BEGIN:DAYLIGHT
TZOFFSETFROM:+1200
TZOFFSETTO:+1300
TZNAME:NZDT
DTSTART:19801025T140000
END:DAYLIGHT
BEGIN:STANDARD
TZOFFSETFROM:+1300
TZOFFSETTO:+1200
TZNAME:NZST
DTSTART:19810228T140000
END:STANDARD
BEGIN:DAYLIGHT
TZOFFSETFROM:+1200
TZOFFSETTO:+1300
TZNAME:NZDT
DTSTART:19811024T140000
END:DAYLIGHT
BEGIN:STANDARD
TZOFFSETFROM:+1300
TZOFFSETTO:+1200
TZNAME:NZST
DTSTART:19820306T140000
END:STANDARD
BEGIN:DAYLIGHT
TZOFFSETFROM:+1200
TZOFFSETTO:+1300
TZNAME:NZDT
DTSTART:19821030T140000
END:DAYLIGHT
BEGIN:STANDARD
TZOFFSETFROM:+1300
TZOFFSETTO:+1200
TZNAME:NZST
DTSTART:19830305T140000
END:STANDARD
BEGIN:DAYLIGHT
TZOFFSETFROM:+1200
TZOFFSETTO:+1300
TZNAME:NZDT
DTSTART:19831029T140000
END:DAYLIGHT
BEGIN:STANDARD
TZOFFSETFROM:+1300
TZOFFSETTO:+1200
TZNAME:NZST
DTSTART:19840303T140000
END:STANDARD
BEGIN:DAYLIGHT
TZOFFSETFROM:+1200
TZOFFSETTO:+1300
TZNAME:NZDT
DTSTART:19841027T140000
END:DAYLIGHT
BEGIN:STANDARD
TZOFFSETFROM:+1300
TZOFFSETTO:+1200
TZNAME:NZST
DTSTART:19850302T140000
END:STANDARD
BEGIN:DAYLIGHT
TZOFFSETFROM:+1200
TZOFFSETTO:+1300
TZNAME:NZDT
DTSTART:19851026T140000
END:DAYLIGHT
BEGIN:STANDARD
TZOFFSETFROM:+1300
TZOFFSETTO:+1200
TZNAME:NZST
DTSTART:19860301T140000
END:STANDARD
BEGIN:DAYLIGHT
TZOFFSETFROM:+1200
TZOFFSETTO:+1300
TZNAME:NZDT
DTSTART:19861025T140000
END:DAYLIGHT
BEGIN:STANDARD
TZOFFSETFROM:+1300
TZOFFSETTO:+1200
TZNAME:NZST
DTSTART:19870228T140000
END:STANDARD
BEGIN:DAYLIGHT
TZOFFSETFROM:+1200
TZOFFSETTO:+1300
TZNAME:NZDT
DTSTART:19871024T140000
END:DAYLIGHT
BEGIN:STANDARD
TZOFFSETFROM:+1300
TZOFFSETTO:+1200
TZNAME:NZST
DTSTART:19880305T140000
END:STANDARD
BEGIN:DAYLIGHT
TZOFFSETFROM:+1200
TZOFFSETTO:+1300
TZNAME:NZDT
DTSTART:19881029T140000
END:DAYLIGHT
BEGIN:STANDARD
TZOFFSETFROM:+1300
TZOFFSETTO:+1200
TZNAME:NZST
DTSTART:19890304T140000
END:STANDARD
BEGIN:DAYLIGHT
TZOFFSETFROM:+1200
TZOFFSETTO:+1300
TZNAME:NZDT
DTSTART:19891007T140000
END:DAYLIGHT
BEGIN:STANDARD
TZOFFSETFROM:+1300
TZOFFSETTO:+1200
TZNAME:NZST
DTSTART:19900317T140000
END:STANDARD
BEGIN:DAYLIGHT
TZOFFSETFROM:+1200
TZOFFSETTO:+1300
TZNAME:NZDT
DTSTART:19901006T140000
END:DAYLIGHT
BEGIN:STANDARD
TZOFFSETFROM:+1300
TZOFFSETTO:+1200
TZNAME:NZST
DTSTART:19910316T140000
END:STANDARD
BEGIN:DAYLIGHT
TZOFFSETFROM:+1200
TZOFFSETTO:+1300
TZNAME:NZDT
DTSTART:19911005T140000
END:DAYLIGHT
BEGIN:STANDARD
TZOFFSETFROM:+1300
TZOFFSETTO:+1200
TZNAME:NZST
DTSTART:19920314T140000
END:STANDARD
BEGIN:DAYLIGHT
TZOFFSETFROM:+1200
TZOFFSETTO:+1300
TZNAME:NZDT
DTSTART:19921003T140000
END:DAYLIGHT
BEGIN:STANDARD
TZOFFSETFROM:+1300
TZOFFSETTO:+1200
TZNAME:NZST
DTSTART:19930320T140000
END:STANDARD
BEGIN:DAYLIGHT
TZOFFSETFROM:+1200
TZOFFSETTO:+1300
TZNAME:NZDT
DTSTART:19931002T140000
END:DAYLIGHT
BEGIN:STANDARD
TZOFFSETFROM:+1300
TZOFFSETTO:+1200
TZNAME:NZST
DTSTART:19940319T140000
END:STANDARD
BEGIN:DAYLIGHT
TZOFFSETFROM:+1200
TZOFFSETTO:+1300
TZNAME:NZDT
DTSTART:19941001T140000
END:DAYLIGHT
BEGIN:STANDARD
TZOFFSETFROM:+1300
TZOFFSETTO:+1200
TZNAME:NZST
DTSTART:19950318T140000
END:STANDARD
BEGIN:DAYLIGHT
TZOFFSETFROM:+1200
TZOFFSETTO:+1300
TZNAME:NZDT
DTSTART:19950930T140000
END:DAYLIGHT
BEGIN:STANDARD
TZOFFSETFROM:+1300
TZOFFSETTO:+1200
TZNAME:NZST
DTSTART:19960316T140000
END:STANDARD
BEGIN:DAYLIGHT
TZOFFSETFROM:+1200
TZOFFSETTO:+1300
TZNAME:NZDT
DTSTART:19961005T140000
END:DAYLIGHT
BEGIN:STANDARD
TZOFFSETFROM:+1300
TZOFFSETTO:+1200
TZNAME:NZST
DTSTART:19970315T140000
END:STANDARD
BEGIN:DAYLIGHT
TZOFFSETFROM:+1200
TZOFFSETTO:+1300
TZNAME:NZDT
DTSTART:19971004T140000
END:DAYLIGHT
BEGIN:STANDARD
TZOFFSETFROM:+1300
TZOFFSETTO:+1200
TZNAME:NZST
DTSTART:19980314T140000
END:STANDARD
BEGIN:DAYLIGHT
TZOFFSETFROM:+1200
TZOFFSETTO:+1300
TZNAME:NZDT
DTSTART:19981003T140000
END:DAYLIGHT
BEGIN:STANDARD
TZOFFSETFROM:+1300
TZOFFSETTO:+1200
TZNAME:NZST
DTSTART:19990320T140000
END:STANDARD
BEGIN:DAYLIGHT
TZOFFSETFROM:+1200
TZOFFSETTO:+1300
TZNAME:NZDT
DTSTART:19991002T140000
END:DAYLIGHT
BEGIN:STANDARD
TZOFFSETFROM:+1300
TZOFFSETTO:+1200
TZNAME:NZST
DTSTART:20000318T140000
END:STANDARD
BEGIN:DAYLIGHT
TZOFFSETFROM:+1200
TZOFFSETTO:+1300
TZNAME:NZDT
DTSTART:20000930T140000
END:DAYLIGHT
BEGIN:STANDARD
TZOFFSETFROM:+1300
TZOFFSETTO:+1200
TZNAME:NZST
DTSTART:20010317T140000
END:STANDARD
BEGIN:DAYLIGHT
TZOFFSETFROM:+1200
TZOFFSETTO:+1300
TZNAME:NZDT
DTSTART:20011006T140000
END:DAYLIGHT
BEGIN:STANDARD
TZOFFSETFROM:+1300
TZOFFSETTO:+1200
TZNAME:NZST
DTSTART:20020316T140000
END:STANDARD
BEGIN:DAYLIGHT
TZOFFSETFROM:+1200
TZOFFSETTO:+1300
TZNAME:NZDT
DTSTART:20021005T140000
END:DAYLIGHT
BEGIN:STANDARD
TZOFFSETFROM:+1300
TZOFFSETTO:+1200
TZNAME:NZST
DTSTART:20030315T140000
END:STANDARD
BEGIN:DAYLIGHT
TZOFFSETFROM:+1200
TZOFFSETTO:+1300
TZNAME:NZDT
DTSTART:20031004T140000
END:DAYLIGHT
BEGIN:STANDARD
TZOFFSETFROM:+1300
TZOFFSETTO:+1200
TZNAME:NZST
DTSTART:20040320T140000
END:STANDARD
BEGIN:DAYLIGHT
TZOFFSETFROM:+1200
TZOFFSETTO:+1300
TZNAME:NZDT
DTSTART:20041002T140000
END:DAYLIGHT
BEGIN:STANDARD
TZOFFSETFROM:+1300
TZOFFSETTO:+1200
TZNAME:NZST
DTSTART:20050319T140000
END:STANDARD
BEGIN:DAYLIGHT
TZOFFSETFROM:+1200
TZOFFSETTO:+1300
TZNAME:NZDT
DTSTART:20051001T140000
END:DAYLIGHT
BEGIN:STANDARD
TZOFFSETFROM:+1300
TZOFFSETTO:+1200
TZNAME:NZST
DTSTART:20060318T140000
END:STANDARD
BEGIN:DAYLIGHT
TZOFFSETFROM:+1200
TZOFFSETTO:+1300
TZNAME:NZDT
DTSTART:20060930T140000
END:DAYLIGHT
BEGIN:STANDARD
TZOFFSETFROM:+1300
TZOFFSETTO:+1200
TZNAME:NZST
DTSTART:20070317T140000
END:STANDARD
BEGIN:DAYLIGHT
TZOFFSETFROM:+1200
TZOFFSETTO:+1300
TZNAME:NZDT
DTSTART:20070929T140000
END:DAYLIGHT
BEGIN:STANDARD
TZOFFSETFROM:+1300
TZOFFSETTO:+1200
TZNAME:NZST
DTSTART:20080405T140000
END:STANDARD
BEGIN:DAYLIGHT
TZOFFSETFROM:+1200
TZOFFSETTO:+1300
TZNAME:NZDT
DTSTART:20080927T140000
END:DAYLIGHT
BEGIN:STANDARD
TZOFFSETFROM:+1300
TZOFFSETTO:+1200
TZNAME:NZST
DTSTART:20090404T140000
END:STANDARD
BEGIN:DAYLIGHT
TZOFFSETFROM:+1200
TZOFFSETTO:+1300
TZNAME:NZDT
DTSTART:20090926T140000
END:DAYLIGHT
BEGIN:STANDARD
TZOFFSETFROM:+1300
TZOFFSETTO:+1200
TZNAME:NZST
DTSTART:20100403T140000
END:STANDARD
BEGIN:DAYLIGHT
TZOFFSETFROM:+1200
TZOFFSETTO:+1300
TZNAME:NZDT
DTSTART:20100925T140000
END:DAYLIGHT
BEGIN:STANDARD
TZOFFSETFROM:+1300
TZOFFSETTO:+1200
TZNAME:NZST
DTSTART:20110402T140000
END:STANDARD
BEGIN:DAYLIGHT
TZOFFSETFROM:+1200
TZOFFSETTO:+1300
TZNAME:NZDT
DTSTART:20110924T140000
END:DAYLIGHT
BEGIN:STANDARD
TZOFFSETFROM:+1300
TZOFFSETTO:+1200
TZNAME:NZST
DTSTART:20120331T140000
END:STANDARD
BEGIN:DAYLIGHT
TZOFFSETFROM:+1200
TZOFFSETTO:+1300
TZNAME:NZDT
DTSTART:20120929T140000
END:DAYLIGHT
BEGIN:STANDARD
TZOFFSETFROM:+1300
TZOFFSETTO:+1200
TZNAME:NZST
DTSTART:20130406T140000
END:STANDARD
BEGIN:DAYLIGHT
TZOFFSETFROM:+1200
TZOFFSETTO:+1300
TZNAME:NZDT
DTSTART:20130928T140000
END:DAYLIGHT
BEGIN:STANDARD
TZOFFSETFROM:+1300
TZOFFSETTO:+1200
TZNAME:NZST
DTSTART:20140405T140000
END:STANDARD
BEGIN:DAYLIGHT
TZOFFSETFROM:+1200
TZOFFSETTO:+1300
TZNAME:NZDT
DTSTART:20140927T140000
END:DAYLIGHT
BEGIN:STANDARD
TZOFFSETFROM:+1300
TZOFFSETTO:+1200
TZNAME:NZST
DTSTART:20150404T140000
END:STANDARD
BEGIN:DAYLIGHT
TZOFFSETFROM:+1200
TZOFFSETTO:+1300
TZNAME:NZDT
DTSTART:20150926T140000
END:DAYLIGHT
BEGIN:STANDARD
TZOFFSETFROM:+1300
TZOFFSETTO:+1200
TZNAME:NZST
DTSTART:20160402T140000
END:STANDARD
BEGIN:DAYLIGHT
TZOFFSETFROM:+1200
TZOFFSETTO:+1300
TZNAME:NZDT
DTSTART:20160924T140000
END:DAYLIGHT
BEGIN:STANDARD
TZOFFSETFROM:+1300
TZOFFSETTO:+1200
TZNAME:NZST
DTSTART:20170401T140000
END:STANDARD
BEGIN:DAYLIGHT
TZOFFSETFROM:+1200
TZOFFSETTO:+1300
TZNAME:NZDT
DTSTART:20170923T140000
END:DAYLIGHT
BEGIN:STANDARD
TZOFFSETFROM:+1300
TZOFFSETTO:+1200
TZNAME:NZST
DTSTART:20180331T140000
END:STANDARD
BEGIN:DAYLIGHT
TZOFFSETFROM:+1200
TZOFFSETTO:+1300
TZNAME:NZDT
DTSTART:20180929T140000
END:DAYLIGHT
BEGIN:STANDARD
TZOFFSETFROM:+1300
TZOFFSETTO:+1200
TZNAME:NZST
DTSTART:20190406T140000
END:STANDARD
BEGIN:DAYLIGHT
TZOFFSETFROM:+1200
TZOFFSETTO:+1300
TZNAME:NZDT
DTSTART:20190928T140000
END:DAYLIGHT
BEGIN:STANDARD
TZOFFSETFROM:+1300
TZOFFSETTO:+1200
TZNAME:NZST
DTSTART:20200404T140000
END:STANDARD
BEGIN:DAYLIGHT
TZOFFSETFROM:+1200
TZOFFSETTO:+1300
TZNAME:NZDT
DTSTART:20200926T140000
END:DAYLIGHT
BEGIN:STANDARD
TZOFFSETFROM:+1300
TZOFFSETTO:+1200
TZNAME:NZST
DTSTART:20210403T140000
END:STANDARD
BEGIN:DAYLIGHT
TZOFFSETFROM:+1200
TZOFFSETTO:+1300
TZNAME:NZDT
DTSTART:20210925T140000
END:DAYLIGHT
BEGIN:STANDARD
TZOFFSETFROM:+1300
TZOFFSETTO:+1200
TZNAME:NZST
DTSTART:20220402T140000
END:STANDARD
BEGIN:DAYLIGHT
TZOFFSETFROM:+1200
TZOFFSETTO:+1300
TZNAME:NZDT
DTSTART:20220924T140000
END:DAYLIGHT
BEGIN:STANDARD
TZOFFSETFROM:+1300
TZOFFSETTO:+1200
TZNAME:NZST
DTSTART:20230401T140000
END:STANDARD
BEGIN:DAYLIGHT
TZOFFSETFROM:+1200
TZOFFSETTO:+1300
TZNAME:NZDT
DTSTART:20230923T140000
END:DAYLIGHT
BEGIN:STANDARD
TZOFFSETFROM:+1300
TZOFFSETTO:+1200
TZNAME:NZST
DTSTART:20240406T140000
END:STANDARD
BEGIN:DAYLIGHT
TZOFFSETFROM:+1200
TZOFFSETTO:+1300
TZNAME:NZDT
DTSTART:20240928T140000
END:DAYLIGHT
BEGIN:STANDARD
TZOFFSETFROM:+1300
TZOFFSETTO:+1200
TZNAME:NZST
DTSTART:20250405T140000
END:STANDARD
BEGIN:DAYLIGHT
TZOFFSETFROM:+1200
TZOFFSETTO:+1300
TZNAME:NZDT
DTSTART:20250927T140000
END:DAYLIGHT
BEGIN:STANDARD
TZOFFSETFROM:+1300
TZOFFSETTO:+1200
TZNAME:NZST
DTSTART:20260404T140000
END:STANDARD
BEGIN:DAYLIGHT
TZOFFSETFROM:+1200
TZOFFSETTO:+1300
TZNAME:NZDT
DTSTART:20260926T140000
END:DAYLIGHT
END:VTIMEZONE
BEGIN:VEVENT
DTSTART;TZID=Pacific/Auckland:20260420T001031
DTEND;TZID=Pacific/Auckland:20251115T213000
DTSTAMP:20260420T001031
CREATED:20251122T080010Z
LAST-MODIFIED:20251122T080014Z
UID:2823-0-1763242200@pitpilot.co.nz
SUMMARY:Twilight Smokefest Burnout Comp November 2025
DESCRIPTION:
URL:https://pitpilot.co.nz/event/twilight-smokefest-burnout-comp-november-2025/
END:VEVENT
BEGIN:VEVENT
DTSTART;TZID=Pacific/Auckland:20251010T180000
DTEND;TZID=Pacific/Auckland:20251012T110000
DTSTAMP:20260420T001031
CREATED:20251003T084423Z
LAST-MODIFIED:20251122T074625Z
UID:1796-1760119200-1760266800@pitpilot.co.nz
SUMMARY:Thunder Hop at Bowentown Beach
DESCRIPTION:This is a social weekend for custom car owners to come and enjoy a fun social weekend with others in this great location\, we will be keeping the numbers limited to make it more fun and social for those joining us.\nWe have got a number of social things happening along with a few cruises happening over the weekend.\nWhat’s Happening:\nFriday 10th Oct\nArrive and get set up\n6.30pm – 7pm Thunder Hop registration\nCome and check in with Mark on site 66 just across from the kitchen\, just look for the Thunder Hop marquee CAR REGISTRATION:\nThunder Hop Registration for those who have a custom car only.\nRegistration is only $60.00 per vehicle for the social weekend.( allows up to two people )\nYou do not have to be staying at the camp to join us\, but you do have to register your car.\nThis is nonrefundable or transferable if you cancel or don’t turn up.\nTo register your custom car you must email a photo of your vehicle to mark@nzmtg.co.nz then he will send you the details for you to confirm your spot for the Thunder Hop at Bowentown Beach..\n8pm -10pm Best car display contest\nAdd some lights to your custom car and dress your site up also\, judges will be visiting each site.\nFeel free to have a walk around the camp and pop into the different sites and have a social catch up and meet others with a custom car and to view what they have done to make them look WOW.\nIt gets darker around 9ish for the lights to stand out.\nSaturday 11th Oct\n8.50am meet outside of the campground main gates\n9.00am Coffee cruise will depart\n12.50pm After lunch meet outside the camp\n1pm We will be departing for a cruise and a refreshment or two.\nMystery judges will be checking out the custom cars.\nMark will inform you of the locations on Friday night.\n5pm social catch up\n5.30pm Vans will start picking us up from the camp\n7pm dinner and prize giving.\nAfter dinner social drinks will be happening back in the bar with the duke box going.\nSunday 12th Oct\n8.20am Meet outside the camp entrance\n8.30am Depart to Waihi Beach RSA to have breakfast at the club with lots of other hot Roders\nThose staying on can join us down at the fishing club for live entertainment\n4pm vans will pick us up from the camp and return us later.
URL:https://pitpilot.co.nz/event/thunder-hop-at-bowentown-beach/
END:VEVENT
BEGIN:VEVENT
DTSTART;TZID=Pacific/Auckland:20251011T070000
DTEND;TZID=Pacific/Auckland:20251012T163000
DTSTAMP:20260420T001031
CREATED:20251003T084424Z
LAST-MODIFIED:20251122T074626Z
UID:1798-1760166000-1760286600@pitpilot.co.nz
SUMMARY:Moto TT Manfeild
DESCRIPTION:Bring your bike to the track!\nTwo Day Event!\nOur track days are designed to be a fun\, non competitive environment for riders to improve their bike handling and riding skills on the circuit with other entrants that care as much about their vehicles and safety as you do\, you’ll be in good company with some laid-back people. Before you know it\, you will have the best day ever and an exhilarating blast on the track!\nWe have four different speed groups\, Fast\, Medium/fast\, Medium and our Suzuki Up Skill group (formally Novice group)\nWe have very experienced coaches that are there to give you advice\, answer any questions you may have and help you improve your riding skills to make your day even more enjoyable.\nCheck out our Facebook page or website www.motott.co.nz for more information on how to book and what you will need for the day.\nWhen entering please book into the correct group for your skill level as our days book out quickly and we may not be able to move you to the correct group on the day resulting in you missing out.\nGroup 1 is for expert/experienced riders who wish to ride at a fast pace.\nGroup 2 is for experienced/intermediate riders.\nGroup 3 is for intermediate riders.\nGroup 4 is for less experienced riders or first-timers on the track who wish to ride at a slower pace.
URL:https://pitpilot.co.nz/event/moto-tt-manfeild/
LOCATION:Manfeild Circuit\, 59 South Street\, Feilding\, 4775\, New Zealand
END:VEVENT
BEGIN:VEVENT
DTSTART;TZID=Pacific/Auckland:20251012T070000
DTEND;TZID=Pacific/Auckland:20251012T120000
DTSTAMP:20260420T001031
CREATED:20251003T084431Z
LAST-MODIFIED:20251122T074645Z
UID:1806-1760252400-1760270400@pitpilot.co.nz
SUMMARY:Car Show and swapmeet
DESCRIPTION:From 7am some of the very coolest cars will turn up to expose their cars meet and chat amongst friends enjoy great food\, coffee\, and stroll around swappers wares and other interesting stalls. You will have opportunity to take a ticket to guess the volumn of a engine sound off.
URL:https://pitpilot.co.nz/event/car-show-and-swapmeet/
END:VEVENT
BEGIN:VEVENT
DTSTART;TZID=Pacific/Auckland:20251012T080000
DTEND;TZID=Pacific/Auckland:20251012T163000
DTSTAMP:20260420T001031
CREATED:20250928T081240Z
LAST-MODIFIED:20251122T074128Z
UID:1551-1760256000-1760286600@pitpilot.co.nz
SUMMARY:Auto Addict
DESCRIPTION:It’s the ultimate fix for Auto Addicts and their families and friends! If you are passionate about your ride and keen to get your car out on the Hampton Downs circuits or skidpan\, then this is the event for you. The full list of activities is as follows: \nTrack Cruise\nWet Skidpan\nGo Karts\nFull Throttle\nHD Auto – Club Circuit\nDrive a V8 Muscle Car – Mustang\nRoll Racing
URL:https://pitpilot.co.nz/event/auto-addict/
LOCATION:Hampton Downs\, 20 Hampton Downs Road\, RD2\, Auckland\, Auckland\, 3782\, New Zealand
ATTACH;FMTTYPE=image/png:https://pitpilot.co.nz/wp-content/uploads/2025/11/6837b5daf5eef1e3db5a1f8a_aa_partners-eENSoi.png
END:VEVENT
BEGIN:VEVENT
DTSTART;TZID=Pacific/Auckland:20251012T080000
DTEND;TZID=Pacific/Auckland:20251012T170000
DTSTAMP:20260420T001031
CREATED:20251003T084308Z
LAST-MODIFIED:20251122T074510Z
UID:1757-1760256000-1760288400@pitpilot.co.nz
SUMMARY:Redwood Physiotherapy 2025 BEARS Championship - Round 4
DESCRIPTION:There are six race meetings from May to December. At each meeting there will be a practice and 2 rounds of racing for all BEARS classes and the support class ‘Sport 400’ (any brand of race bike 125cc-400cc – see regulations). Plus 3 sessions for ‘Have a Go’ riders on any brand of road bike (590cc to Open). 7.00am – Gates 0pen\n8.00am – Sign In & Scrutineering\n8.45am – Riders Briefing\n9.30am – Practice & Racing \nPractice Order\nLightweights\, Sport 400\nFormula One\, Formula Two\, Moto Euro\nSuperstock Ltd & Open\, Formula Three\nBest Of British\, Milwaukee Iron\, Heritage\nRace Order\nRound 1\nHave A Go\nLightweights\nFormula One\, Formula Two\nSport 400\nSuperstock Open & Limited\nBest Of British/Milwaukee Iron\nFormula Three\nMoto Euro / Heritage\nRound 2\nRepeat above\nHave A Go
URL:https://pitpilot.co.nz/event/redwood-physiotherapy-2025-bears-championship-round-4/
ATTACH;FMTTYPE=image/jpeg:https://pitpilot.co.nz/wp-content/uploads/2025/11/177bd0_12a7d18ea0e54cd99d69b3509f3c90dfmv2-QwfQXd.jpg
END:VEVENT
BEGIN:VEVENT
DTSTART;TZID=Pacific/Auckland:20251012T083000
DTEND;TZID=Pacific/Auckland:20251012T123000
DTSTAMP:20260420T001031
CREATED:20251003T084433Z
LAST-MODIFIED:20251122T074646Z
UID:1808-1760257800-1760272200@pitpilot.co.nz
SUMMARY:Auckland's 22nd Pink Ribbon Ride
DESCRIPTION:Join hundreds of motorcyclists to form a vibrant wave of pink through Auckland’s streets raising vital funds for Breast Cancer Foundation NZ\nAuckland’s 22nd Pink Ribbon Ride\nDon your finest pink attire and decorations to dress your motorbike\, trike\, Spyder or scooter for a chance to win a spot prize. Arrive early to pick up your badge\, whether you have prepaid or need to make a payment at the event. Take a moment to enjoy a coffee and soak in the lively atmosphere before the ride commences.\nTO PARTICIPATE\, SIMPLY PREPAY HERE (SEE “GET TICKETS” BUTTON) OR AT THE START OF THE VENUE ON THE DAY OF THE EVENT.\nDate: Sunday 12th Oct 2025\nStart Venue Opens: Auckland Netball Centre\, St Johns 08.30 am – onwards\nRide Departs: 10.30 am Sharp – 7 Allison Ferguson Drive\, St Johns\, Auckland\nEnd Venue: Eden Park\, Gate G\, Reimers Ave\, Kingsland\, Auckland\nPINK RIBBON RIDE BADGES:\nPrepay (see Get tickets button): $25 + fees ($2.58)\, buys one Pink Ribbon Ride Badge – collect on the day.\nBadge sales at the venue: $25\, buys one Pink Ribbon Ride Badge – collect on the day.\nYour donations help fund groundbreaking projects by some of our country’s top researchers\, provide education about breast health and free support services for breast cancer patients and their families.\nGet ready to rev your engines and hit the road with fellow riders from all over Auckland and beyond. This event is all about coming together to show support and raise funds for Breast Cancer Foundation and spread awareness about breast cancer.\nWhether you’re a seasoned rider or a beginner\, everyone is welcome to join in on the fun. Feel the thrill as we ride through the beautiful streets of Auckland\, creating a sea of pink to honour those affected by breast cancer.\nSo grab your bike\, put on your best pink gear\, and let’s ride together to support breast cancer awareness! Don’t miss out on this incredible opportunity to make a difference and have an unforgettable day with like-minded supporters.
URL:https://pitpilot.co.nz/event/aucklands-22nd-pink-ribbon-ride/
END:VEVENT
BEGIN:VEVENT
DTSTART;TZID=Pacific/Auckland:20251012T100000
DTEND;TZID=Pacific/Auckland:20251012T140000
DTSTAMP:20260420T001031
CREATED:20251003T084335Z
LAST-MODIFIED:20251122T074545Z
UID:1767-1760263200-1760277600@pitpilot.co.nz
SUMMARY:Wheels for Kids Performance carshow
DESCRIPTION:Proudly supporting Make-a-Wish-Foundation!\n⸻\n🎟️ Entry Details\n• Show Cars: $5 per car\n• Public Entry: $5 per adult\n• Kids under 12: FREE\n💳 Eftpos available at the gate\, donation buckets for cash\n💵 Bring cash for raffles – no cash-out on site\n🚗 Register Your Ride\n– Calling all V8s and special interest vehicles – we want YOU!\n📧 Email racewaytrendz@gmail.com with:\n• A photo of your car\n• A brief backstory\n📞 Or call Steve Clout on 021 587 702 for more info\n………………………………………………………………\n** Important Info for Show Cars:\n• Arrival: From 8:00 AM at Gate E\n• Last entry: 9:30AM SHARP\n• Cars must remain STATIC till 2pm\n***Important Info for Trade Stall Holders:\n• Arrival: From 7.00AM\n• Last entry: 7.45AM SHARP\n………………………………………………………………\n🎉 What’s On\n• 🚘 V8s\, Hot Rods\, Classics & More\n• 🎸 Live Rock Music by $kint\n• 🍻 Lilyworld Bar & Café\n• 🔨 Trade Stalls & Vendors\n•  🚚 Waikato RC Truckers Display\n• 🎁 Raffles\, Giveaways & Spot Prizes\n• ❤️ $30 Flash Tattoos\n• 🎨 Live Art by Stace the Ace\n• 🌟 Face & Body Painting by T.L.C\n• 🛝 Kids’ Activities & Games\n• 🏁 Nascar Demo + Bathurst LIVE
URL:https://pitpilot.co.nz/event/wheels-for-kids-performance-carshow/
END:VEVENT
BEGIN:VEVENT
DTSTART;TZID=Pacific/Auckland:20251012T110000
DTEND;TZID=Pacific/Auckland:20251012T110000
DTSTAMP:20260420T001031
CREATED:20251003T084618Z
LAST-MODIFIED:20251122T074706Z
UID:1809-1760266800-1760266800@pitpilot.co.nz
SUMMARY:Kapiti Burgers n Bikes
DESCRIPTION:Hello everyone\, so making plans for our next Kapiti Burgers n Bikes\, an as September is Motorcycle Awareness Month there is a lot of other events on so we are going to hold off and support these great events and we are planning to run our next event on the 12th of October\,\nBUT we want to make this a special event and on that note we have been given permission to close the road outside Kapiti BurgerFuel\, allowing us to have better parking for bikes but also giving us lots more room\,\nSo I want to put out an invitation to Motorcycle shops/workshops & all our great Motorcycle clubs that run there own events or fundraisers\, come along setup a spot and advertise all the great things you have on offer to our local bike community
URL:https://pitpilot.co.nz/event/kapiti-burgers-n-bikes/
END:VEVENT
BEGIN:VEVENT
DTSTART;TZID=Pacific/Auckland:20251012T110000
DTEND;TZID=Pacific/Auckland:20251012T110000
DTSTAMP:20260420T001031
CREATED:20251003T084620Z
LAST-MODIFIED:20251122T074708Z
UID:1813-1760266800-1760266800@pitpilot.co.nz
SUMMARY:Fundraising Car Show for Child Cancer
DESCRIPTION:Join us for a special day as we come together to raise funds and awareness for Child Cancer.\n✨ What’s On:\nClassic & modern Car Show 🚘\nLive music to set the vibe 🎶\nCoffee & lunch specials ☕🍔\nKids outdoor games\, bouncy castle & obstacle course 🎈\nFood & drinks deals with proceeds supporting this great cause 💛\nYou’ll also find helpful resources on child cancer awareness & funding support available on the day.\nLet’s unite as a community to support children and families who need it most. Bring your friends\, family & car lovers—everyone is welcome! 🙌\nFREE ENTRY\, GOLD COIN DONATION.
URL:https://pitpilot.co.nz/event/fundraising-car-show-for-child-cancer/
END:VEVENT
BEGIN:VEVENT
DTSTART;TZID=Pacific/Auckland:20251012T110000
DTEND;TZID=Pacific/Auckland:20251012T140000
DTSTAMP:20260420T001031
CREATED:20251003T084619Z
LAST-MODIFIED:20251122T074707Z
UID:1811-1760266800-1760277600@pitpilot.co.nz
SUMMARY:Battle of the Bathurst
DESCRIPTION:Battle Of The Bathurst\nBring your Ford or Holden along to display in a community meet\, greet and eat on the 12th of October from 11am-2pm\, there will be prizes\, food trucks and some business with their products\nSo start up your engine grab your wallets and come down to The Battle Of The Bathurst. You can bring any style and any\nyear of Ford or Holden from trucks\,\n– HOLDEN utes\, vans\, coupes\, 4WD\, wagons or\nSUV’s\, vintage or new\, completed or half done anyone is welcome
URL:https://pitpilot.co.nz/event/battle-of-the-bathurst/
END:VEVENT
END:VCALENDAR