BEGIN:VCALENDAR
VERSION:2.0
PRODID:-//Pit Pilot - ECPv6.15.20//NONSGML v1.0//EN
CALSCALE:GREGORIAN
METHOD:PUBLISH
X-WR-CALNAME:Pit Pilot
X-ORIGINAL-URL:https://pitpilot.co.nz
X-WR-CALDESC:Events for Pit Pilot
REFRESH-INTERVAL;VALUE=DURATION:PT1H
X-Robots-Tag:noindex
X-PUBLISHED-TTL:PT1H
BEGIN:VTIMEZONE
TZID:Pacific/Auckland
BEGIN:DAYLIGHT
TZOFFSETFROM:+1200
TZOFFSETTO:+1300
TZNAME:NZDT
DTSTART:19741102T140000
END:DAYLIGHT
BEGIN:STANDARD
TZOFFSETFROM:+1300
TZOFFSETTO:+1200
TZNAME:NZST
DTSTART:19750222T140000
END:STANDARD
BEGIN:DAYLIGHT
TZOFFSETFROM:+1200
TZOFFSETTO:+1300
TZNAME:NZDT
DTSTART:19751025T140000
END:DAYLIGHT
BEGIN:STANDARD
TZOFFSETFROM:+1300
TZOFFSETTO:+1200
TZNAME:NZST
DTSTART:19760306T140000
END:STANDARD
BEGIN:DAYLIGHT
TZOFFSETFROM:+1200
TZOFFSETTO:+1300
TZNAME:NZDT
DTSTART:19761030T140000
END:DAYLIGHT
BEGIN:STANDARD
TZOFFSETFROM:+1300
TZOFFSETTO:+1200
TZNAME:NZST
DTSTART:19770305T140000
END:STANDARD
BEGIN:DAYLIGHT
TZOFFSETFROM:+1200
TZOFFSETTO:+1300
TZNAME:NZDT
DTSTART:19771029T140000
END:DAYLIGHT
BEGIN:STANDARD
TZOFFSETFROM:+1300
TZOFFSETTO:+1200
TZNAME:NZST
DTSTART:19780304T140000
END:STANDARD
BEGIN:DAYLIGHT
TZOFFSETFROM:+1200
TZOFFSETTO:+1300
TZNAME:NZDT
DTSTART:19781028T140000
END:DAYLIGHT
BEGIN:STANDARD
TZOFFSETFROM:+1300
TZOFFSETTO:+1200
TZNAME:NZST
DTSTART:19790303T140000
END:STANDARD
BEGIN:DAYLIGHT
TZOFFSETFROM:+1200
TZOFFSETTO:+1300
TZNAME:NZDT
DTSTART:19791027T140000
END:DAYLIGHT
BEGIN:STANDARD
TZOFFSETFROM:+1300
TZOFFSETTO:+1200
TZNAME:NZST
DTSTART:19800301T140000
END:STANDARD
BEGIN:DAYLIGHT
TZOFFSETFROM:+1200
TZOFFSETTO:+1300
TZNAME:NZDT
DTSTART:19801025T140000
END:DAYLIGHT
BEGIN:STANDARD
TZOFFSETFROM:+1300
TZOFFSETTO:+1200
TZNAME:NZST
DTSTART:19810228T140000
END:STANDARD
BEGIN:DAYLIGHT
TZOFFSETFROM:+1200
TZOFFSETTO:+1300
TZNAME:NZDT
DTSTART:19811024T140000
END:DAYLIGHT
BEGIN:STANDARD
TZOFFSETFROM:+1300
TZOFFSETTO:+1200
TZNAME:NZST
DTSTART:19820306T140000
END:STANDARD
BEGIN:DAYLIGHT
TZOFFSETFROM:+1200
TZOFFSETTO:+1300
TZNAME:NZDT
DTSTART:19821030T140000
END:DAYLIGHT
BEGIN:STANDARD
TZOFFSETFROM:+1300
TZOFFSETTO:+1200
TZNAME:NZST
DTSTART:19830305T140000
END:STANDARD
BEGIN:DAYLIGHT
TZOFFSETFROM:+1200
TZOFFSETTO:+1300
TZNAME:NZDT
DTSTART:19831029T140000
END:DAYLIGHT
BEGIN:STANDARD
TZOFFSETFROM:+1300
TZOFFSETTO:+1200
TZNAME:NZST
DTSTART:19840303T140000
END:STANDARD
BEGIN:DAYLIGHT
TZOFFSETFROM:+1200
TZOFFSETTO:+1300
TZNAME:NZDT
DTSTART:19841027T140000
END:DAYLIGHT
BEGIN:STANDARD
TZOFFSETFROM:+1300
TZOFFSETTO:+1200
TZNAME:NZST
DTSTART:19850302T140000
END:STANDARD
BEGIN:DAYLIGHT
TZOFFSETFROM:+1200
TZOFFSETTO:+1300
TZNAME:NZDT
DTSTART:19851026T140000
END:DAYLIGHT
BEGIN:STANDARD
TZOFFSETFROM:+1300
TZOFFSETTO:+1200
TZNAME:NZST
DTSTART:19860301T140000
END:STANDARD
BEGIN:DAYLIGHT
TZOFFSETFROM:+1200
TZOFFSETTO:+1300
TZNAME:NZDT
DTSTART:19861025T140000
END:DAYLIGHT
BEGIN:STANDARD
TZOFFSETFROM:+1300
TZOFFSETTO:+1200
TZNAME:NZST
DTSTART:19870228T140000
END:STANDARD
BEGIN:DAYLIGHT
TZOFFSETFROM:+1200
TZOFFSETTO:+1300
TZNAME:NZDT
DTSTART:19871024T140000
END:DAYLIGHT
BEGIN:STANDARD
TZOFFSETFROM:+1300
TZOFFSETTO:+1200
TZNAME:NZST
DTSTART:19880305T140000
END:STANDARD
BEGIN:DAYLIGHT
TZOFFSETFROM:+1200
TZOFFSETTO:+1300
TZNAME:NZDT
DTSTART:19881029T140000
END:DAYLIGHT
BEGIN:STANDARD
TZOFFSETFROM:+1300
TZOFFSETTO:+1200
TZNAME:NZST
DTSTART:19890304T140000
END:STANDARD
BEGIN:DAYLIGHT
TZOFFSETFROM:+1200
TZOFFSETTO:+1300
TZNAME:NZDT
DTSTART:19891007T140000
END:DAYLIGHT
BEGIN:STANDARD
TZOFFSETFROM:+1300
TZOFFSETTO:+1200
TZNAME:NZST
DTSTART:19900317T140000
END:STANDARD
BEGIN:DAYLIGHT
TZOFFSETFROM:+1200
TZOFFSETTO:+1300
TZNAME:NZDT
DTSTART:19901006T140000
END:DAYLIGHT
BEGIN:STANDARD
TZOFFSETFROM:+1300
TZOFFSETTO:+1200
TZNAME:NZST
DTSTART:19910316T140000
END:STANDARD
BEGIN:DAYLIGHT
TZOFFSETFROM:+1200
TZOFFSETTO:+1300
TZNAME:NZDT
DTSTART:19911005T140000
END:DAYLIGHT
BEGIN:STANDARD
TZOFFSETFROM:+1300
TZOFFSETTO:+1200
TZNAME:NZST
DTSTART:19920314T140000
END:STANDARD
BEGIN:DAYLIGHT
TZOFFSETFROM:+1200
TZOFFSETTO:+1300
TZNAME:NZDT
DTSTART:19921003T140000
END:DAYLIGHT
BEGIN:STANDARD
TZOFFSETFROM:+1300
TZOFFSETTO:+1200
TZNAME:NZST
DTSTART:19930320T140000
END:STANDARD
BEGIN:DAYLIGHT
TZOFFSETFROM:+1200
TZOFFSETTO:+1300
TZNAME:NZDT
DTSTART:19931002T140000
END:DAYLIGHT
BEGIN:STANDARD
TZOFFSETFROM:+1300
TZOFFSETTO:+1200
TZNAME:NZST
DTSTART:19940319T140000
END:STANDARD
BEGIN:DAYLIGHT
TZOFFSETFROM:+1200
TZOFFSETTO:+1300
TZNAME:NZDT
DTSTART:19941001T140000
END:DAYLIGHT
BEGIN:STANDARD
TZOFFSETFROM:+1300
TZOFFSETTO:+1200
TZNAME:NZST
DTSTART:19950318T140000
END:STANDARD
BEGIN:DAYLIGHT
TZOFFSETFROM:+1200
TZOFFSETTO:+1300
TZNAME:NZDT
DTSTART:19950930T140000
END:DAYLIGHT
BEGIN:STANDARD
TZOFFSETFROM:+1300
TZOFFSETTO:+1200
TZNAME:NZST
DTSTART:19960316T140000
END:STANDARD
BEGIN:DAYLIGHT
TZOFFSETFROM:+1200
TZOFFSETTO:+1300
TZNAME:NZDT
DTSTART:19961005T140000
END:DAYLIGHT
BEGIN:STANDARD
TZOFFSETFROM:+1300
TZOFFSETTO:+1200
TZNAME:NZST
DTSTART:19970315T140000
END:STANDARD
BEGIN:DAYLIGHT
TZOFFSETFROM:+1200
TZOFFSETTO:+1300
TZNAME:NZDT
DTSTART:19971004T140000
END:DAYLIGHT
BEGIN:STANDARD
TZOFFSETFROM:+1300
TZOFFSETTO:+1200
TZNAME:NZST
DTSTART:19980314T140000
END:STANDARD
BEGIN:DAYLIGHT
TZOFFSETFROM:+1200
TZOFFSETTO:+1300
TZNAME:NZDT
DTSTART:19981003T140000
END:DAYLIGHT
BEGIN:STANDARD
TZOFFSETFROM:+1300
TZOFFSETTO:+1200
TZNAME:NZST
DTSTART:19990320T140000
END:STANDARD
BEGIN:DAYLIGHT
TZOFFSETFROM:+1200
TZOFFSETTO:+1300
TZNAME:NZDT
DTSTART:19991002T140000
END:DAYLIGHT
BEGIN:STANDARD
TZOFFSETFROM:+1300
TZOFFSETTO:+1200
TZNAME:NZST
DTSTART:20000318T140000
END:STANDARD
BEGIN:DAYLIGHT
TZOFFSETFROM:+1200
TZOFFSETTO:+1300
TZNAME:NZDT
DTSTART:20000930T140000
END:DAYLIGHT
BEGIN:STANDARD
TZOFFSETFROM:+1300
TZOFFSETTO:+1200
TZNAME:NZST
DTSTART:20010317T140000
END:STANDARD
BEGIN:DAYLIGHT
TZOFFSETFROM:+1200
TZOFFSETTO:+1300
TZNAME:NZDT
DTSTART:20011006T140000
END:DAYLIGHT
BEGIN:STANDARD
TZOFFSETFROM:+1300
TZOFFSETTO:+1200
TZNAME:NZST
DTSTART:20020316T140000
END:STANDARD
BEGIN:DAYLIGHT
TZOFFSETFROM:+1200
TZOFFSETTO:+1300
TZNAME:NZDT
DTSTART:20021005T140000
END:DAYLIGHT
BEGIN:STANDARD
TZOFFSETFROM:+1300
TZOFFSETTO:+1200
TZNAME:NZST
DTSTART:20030315T140000
END:STANDARD
BEGIN:DAYLIGHT
TZOFFSETFROM:+1200
TZOFFSETTO:+1300
TZNAME:NZDT
DTSTART:20031004T140000
END:DAYLIGHT
BEGIN:STANDARD
TZOFFSETFROM:+1300
TZOFFSETTO:+1200
TZNAME:NZST
DTSTART:20040320T140000
END:STANDARD
BEGIN:DAYLIGHT
TZOFFSETFROM:+1200
TZOFFSETTO:+1300
TZNAME:NZDT
DTSTART:20041002T140000
END:DAYLIGHT
BEGIN:STANDARD
TZOFFSETFROM:+1300
TZOFFSETTO:+1200
TZNAME:NZST
DTSTART:20050319T140000
END:STANDARD
BEGIN:DAYLIGHT
TZOFFSETFROM:+1200
TZOFFSETTO:+1300
TZNAME:NZDT
DTSTART:20051001T140000
END:DAYLIGHT
BEGIN:STANDARD
TZOFFSETFROM:+1300
TZOFFSETTO:+1200
TZNAME:NZST
DTSTART:20060318T140000
END:STANDARD
BEGIN:DAYLIGHT
TZOFFSETFROM:+1200
TZOFFSETTO:+1300
TZNAME:NZDT
DTSTART:20060930T140000
END:DAYLIGHT
BEGIN:STANDARD
TZOFFSETFROM:+1300
TZOFFSETTO:+1200
TZNAME:NZST
DTSTART:20070317T140000
END:STANDARD
BEGIN:DAYLIGHT
TZOFFSETFROM:+1200
TZOFFSETTO:+1300
TZNAME:NZDT
DTSTART:20070929T140000
END:DAYLIGHT
BEGIN:STANDARD
TZOFFSETFROM:+1300
TZOFFSETTO:+1200
TZNAME:NZST
DTSTART:20080405T140000
END:STANDARD
BEGIN:DAYLIGHT
TZOFFSETFROM:+1200
TZOFFSETTO:+1300
TZNAME:NZDT
DTSTART:20080927T140000
END:DAYLIGHT
BEGIN:STANDARD
TZOFFSETFROM:+1300
TZOFFSETTO:+1200
TZNAME:NZST
DTSTART:20090404T140000
END:STANDARD
BEGIN:DAYLIGHT
TZOFFSETFROM:+1200
TZOFFSETTO:+1300
TZNAME:NZDT
DTSTART:20090926T140000
END:DAYLIGHT
BEGIN:STANDARD
TZOFFSETFROM:+1300
TZOFFSETTO:+1200
TZNAME:NZST
DTSTART:20100403T140000
END:STANDARD
BEGIN:DAYLIGHT
TZOFFSETFROM:+1200
TZOFFSETTO:+1300
TZNAME:NZDT
DTSTART:20100925T140000
END:DAYLIGHT
BEGIN:STANDARD
TZOFFSETFROM:+1300
TZOFFSETTO:+1200
TZNAME:NZST
DTSTART:20110402T140000
END:STANDARD
BEGIN:DAYLIGHT
TZOFFSETFROM:+1200
TZOFFSETTO:+1300
TZNAME:NZDT
DTSTART:20110924T140000
END:DAYLIGHT
BEGIN:STANDARD
TZOFFSETFROM:+1300
TZOFFSETTO:+1200
TZNAME:NZST
DTSTART:20120331T140000
END:STANDARD
BEGIN:DAYLIGHT
TZOFFSETFROM:+1200
TZOFFSETTO:+1300
TZNAME:NZDT
DTSTART:20120929T140000
END:DAYLIGHT
BEGIN:STANDARD
TZOFFSETFROM:+1300
TZOFFSETTO:+1200
TZNAME:NZST
DTSTART:20130406T140000
END:STANDARD
BEGIN:DAYLIGHT
TZOFFSETFROM:+1200
TZOFFSETTO:+1300
TZNAME:NZDT
DTSTART:20130928T140000
END:DAYLIGHT
BEGIN:STANDARD
TZOFFSETFROM:+1300
TZOFFSETTO:+1200
TZNAME:NZST
DTSTART:20140405T140000
END:STANDARD
BEGIN:DAYLIGHT
TZOFFSETFROM:+1200
TZOFFSETTO:+1300
TZNAME:NZDT
DTSTART:20140927T140000
END:DAYLIGHT
BEGIN:STANDARD
TZOFFSETFROM:+1300
TZOFFSETTO:+1200
TZNAME:NZST
DTSTART:20150404T140000
END:STANDARD
BEGIN:DAYLIGHT
TZOFFSETFROM:+1200
TZOFFSETTO:+1300
TZNAME:NZDT
DTSTART:20150926T140000
END:DAYLIGHT
BEGIN:STANDARD
TZOFFSETFROM:+1300
TZOFFSETTO:+1200
TZNAME:NZST
DTSTART:20160402T140000
END:STANDARD
BEGIN:DAYLIGHT
TZOFFSETFROM:+1200
TZOFFSETTO:+1300
TZNAME:NZDT
DTSTART:20160924T140000
END:DAYLIGHT
BEGIN:STANDARD
TZOFFSETFROM:+1300
TZOFFSETTO:+1200
TZNAME:NZST
DTSTART:20170401T140000
END:STANDARD
BEGIN:DAYLIGHT
TZOFFSETFROM:+1200
TZOFFSETTO:+1300
TZNAME:NZDT
DTSTART:20170923T140000
END:DAYLIGHT
BEGIN:STANDARD
TZOFFSETFROM:+1300
TZOFFSETTO:+1200
TZNAME:NZST
DTSTART:20180331T140000
END:STANDARD
BEGIN:DAYLIGHT
TZOFFSETFROM:+1200
TZOFFSETTO:+1300
TZNAME:NZDT
DTSTART:20180929T140000
END:DAYLIGHT
BEGIN:STANDARD
TZOFFSETFROM:+1300
TZOFFSETTO:+1200
TZNAME:NZST
DTSTART:20190406T140000
END:STANDARD
BEGIN:DAYLIGHT
TZOFFSETFROM:+1200
TZOFFSETTO:+1300
TZNAME:NZDT
DTSTART:20190928T140000
END:DAYLIGHT
BEGIN:STANDARD
TZOFFSETFROM:+1300
TZOFFSETTO:+1200
TZNAME:NZST
DTSTART:20200404T140000
END:STANDARD
BEGIN:DAYLIGHT
TZOFFSETFROM:+1200
TZOFFSETTO:+1300
TZNAME:NZDT
DTSTART:20200926T140000
END:DAYLIGHT
BEGIN:STANDARD
TZOFFSETFROM:+1300
TZOFFSETTO:+1200
TZNAME:NZST
DTSTART:20210403T140000
END:STANDARD
BEGIN:DAYLIGHT
TZOFFSETFROM:+1200
TZOFFSETTO:+1300
TZNAME:NZDT
DTSTART:20210925T140000
END:DAYLIGHT
BEGIN:STANDARD
TZOFFSETFROM:+1300
TZOFFSETTO:+1200
TZNAME:NZST
DTSTART:20220402T140000
END:STANDARD
BEGIN:DAYLIGHT
TZOFFSETFROM:+1200
TZOFFSETTO:+1300
TZNAME:NZDT
DTSTART:20220924T140000
END:DAYLIGHT
BEGIN:STANDARD
TZOFFSETFROM:+1300
TZOFFSETTO:+1200
TZNAME:NZST
DTSTART:20230401T140000
END:STANDARD
BEGIN:DAYLIGHT
TZOFFSETFROM:+1200
TZOFFSETTO:+1300
TZNAME:NZDT
DTSTART:20230923T140000
END:DAYLIGHT
BEGIN:STANDARD
TZOFFSETFROM:+1300
TZOFFSETTO:+1200
TZNAME:NZST
DTSTART:20240406T140000
END:STANDARD
BEGIN:DAYLIGHT
TZOFFSETFROM:+1200
TZOFFSETTO:+1300
TZNAME:NZDT
DTSTART:20240928T140000
END:DAYLIGHT
BEGIN:STANDARD
TZOFFSETFROM:+1300
TZOFFSETTO:+1200
TZNAME:NZST
DTSTART:20250405T140000
END:STANDARD
BEGIN:DAYLIGHT
TZOFFSETFROM:+1200
TZOFFSETTO:+1300
TZNAME:NZDT
DTSTART:20250927T140000
END:DAYLIGHT
BEGIN:STANDARD
TZOFFSETFROM:+1300
TZOFFSETTO:+1200
TZNAME:NZST
DTSTART:20260404T140000
END:STANDARD
BEGIN:DAYLIGHT
TZOFFSETFROM:+1200
TZOFFSETTO:+1300
TZNAME:NZDT
DTSTART:20260926T140000
END:DAYLIGHT
END:VTIMEZONE
BEGIN:VEVENT
DTSTART;TZID=Pacific/Auckland:20260421T204426
DTEND;TZID=Pacific/Auckland:20251115T213000
DTSTAMP:20260421T204426
CREATED:20251122T080010Z
LAST-MODIFIED:20251122T080014Z
UID:2823-0-1763242200@pitpilot.co.nz
SUMMARY:Twilight Smokefest Burnout Comp November 2025
DESCRIPTION:
URL:https://pitpilot.co.nz/event/twilight-smokefest-burnout-comp-november-2025/
END:VEVENT
BEGIN:VEVENT
DTSTART;TZID=Pacific/Auckland:20251114T090000
DTEND;TZID=Pacific/Auckland:20251116T170000
DTSTAMP:20260421T204426
CREATED:20250928T081207Z
LAST-MODIFIED:20251122T074122Z
UID:1534-1763110800-1763312400@pitpilot.co.nz
SUMMARY:Link ECU Roll Race Round 4 & Rotary Champs
DESCRIPTION:Round 4 of Spec Performance Roll Race NZ
URL:https://pitpilot.co.nz/event/link-ecu-roll-race-round-4-rotary-champs/
LOCATION:Levels Raceway\, 418 Falvey Road\, Washdyke\, Timaru\, 7974\, New Zealand
END:VEVENT
BEGIN:VEVENT
DTSTART;TZID=Pacific/Auckland:20251115T080000
DTEND;TZID=Pacific/Auckland:20251115T170000
DTSTAMP:20260421T204426
CREATED:20250928T081206Z
LAST-MODIFIED:20251122T074121Z
UID:1532-1763193600-1763226000@pitpilot.co.nz
SUMMARY:Prowear South Island Champs
DESCRIPTION:Cruising\, Drifting\, Burnouts\, Roll Racing\, Powerskids\, DB Drags\, Hard Park\, Entertainment and more!
URL:https://pitpilot.co.nz/event/prowear-south-island-champs-2/
LOCATION:Levels Raceway\, 418 Falvey Road\, Washdyke\, Timaru\, 7974\, New Zealand
END:VEVENT
BEGIN:VEVENT
DTSTART;TZID=Pacific/Auckland:20251115T083000
DTEND;TZID=Pacific/Auckland:20251116T160000
DTSTAMP:20260421T204426
CREATED:20251003T084351Z
LAST-MODIFIED:20251122T074557Z
UID:1780-1763195400-1763308800@pitpilot.co.nz
SUMMARY:2025 MG Classic Race Meeting
DESCRIPTION:Vehicle Classes include: \nClassics \nAllcomers (including Schedule K and Group A Cars) \nF5000  \nFormula First Championship \nHeritage Saloon Cars NZ \nHeritage Touring Cars NZ \nHistoric Muscle and Saloon Cars       \nHistoric Sports Sedans & Invited Allcomers / NZ Tranzam Challenge \nHistoric Racing Cars\, Single Seaters and Formula Juniors \nHistoric & Vintage Racing Association NZ \nNZ Sports Car Racing Series / Formula Libre \nPre 65 North Island Race Series / Super Mini Challenge Race Series \nTouring Car Masters New Zealand \nTime-sliced grid selections for closely matched racing all day \nSpecial interest races – e.g. ‘Spagetti cars’\, ‘Old’ drivers etc. \n“Open pit” concept for the public to enjoy \nSponsored lunchtime charity track rides – fund raising for The Cancer Society
URL:https://pitpilot.co.nz/event/2025-mg-classic-race-meeting/
LOCATION:Manfeild Circuit\, 59 South Street\, Feilding\, 4775\, New Zealand
ATTACH;FMTTYPE=image/jpeg:https://pitpilot.co.nz/wp-content/uploads/2025/11/Muscle_Cars-mUTrtj.jpg
END:VEVENT
BEGIN:VEVENT
DTSTART;TZID=Pacific/Auckland:20251115T090000
DTEND;TZID=Pacific/Auckland:20251115T090000
DTSTAMP:20260421T204426
CREATED:20251122T075957Z
LAST-MODIFIED:20251122T075957Z
UID:2819-1763197200-1763197200@pitpilot.co.nz
SUMMARY:Saving Hope Fundraise Ride
DESCRIPTION:Road Pirates SMC Auckland Chapter is pleased to announce that\, in partnership with Saving Hope\, we have been working diligently over the past month to bring you an exciting event. Save the date: NOVEMBER 15TH FUNDRAISER RIDE!\n#SAVETHEDATE #FUNDRAISER #MOTORCYCLERID
URL:https://pitpilot.co.nz/event/saving-hope-fundraise-ride/
END:VEVENT
BEGIN:VEVENT
DTSTART;TZID=Pacific/Auckland:20251115T100000
DTEND;TZID=Pacific/Auckland:20251115T183000
DTSTAMP:20260421T204426
CREATED:20251122T075957Z
LAST-MODIFIED:20251122T075957Z
UID:2820-1763200800-1763231400@pitpilot.co.nz
SUMMARY:Cruise 4 Hospice Poker Run
DESCRIPTION:Join us for the Cruise 4 Hospice Poker Run\, a fun-filled day for car enthusiasts and families alike! This event welcomes all vehicles—classic or not—and offers a chance to show off your pride and joy\, have lots of fun\, and support a great cause! All proceeds go to Hospice Southland!
URL:https://pitpilot.co.nz/event/cruise-4-hospice-poker-run/
ATTACH;FMTTYPE=image/webp:https://pitpilot.co.nz/wp-content/uploads/2025/11/D8my69rSA6Q1Dr7VHqfb-4pGPBW.webp
END:VEVENT
BEGIN:VEVENT
DTSTART;TZID=Pacific/Auckland:20251115T103000
DTEND;TZID=Pacific/Auckland:20251115T150000
DTSTAMP:20260421T204426
CREATED:20251122T075958Z
LAST-MODIFIED:20251122T075958Z
UID:2821-1763202600-1763218800@pitpilot.co.nz
SUMMARY:Iron Thunder MC Auckland - 3d Annual Toy Run
DESCRIPTION:Exciting News for our Iron Thunder MC South Auckland NZ Community! 🎉🏍️\nJoin us for our next charity event!\n1️⃣ **3rd Annual Toy Run** 🧸\n📅 Date: 15th November 2025\n⏰ Time: 10:30am\n📍 Location: TBA\n🚀 Supporting: Woven Earth
URL:https://pitpilot.co.nz/event/iron-thunder-mc-auckland-3d-annual-toy-run/
END:VEVENT
BEGIN:VEVENT
DTSTART;TZID=Pacific/Auckland:20251115T163000
DTEND;TZID=Pacific/Auckland:20251115T210000
DTSTAMP:20260421T204426
CREATED:20251122T075422Z
LAST-MODIFIED:20251122T075422Z
UID:2659-1763224200-1763240400@pitpilot.co.nz
SUMMARY:Waipa Superstock Champs
DESCRIPTION:Classes Racing\nWaipa Superstock Champs – Stockcars – Saloons – Super Saloons – Sidecars – Ministocks – Stockcar Teams Races
URL:https://pitpilot.co.nz/event/waipa-superstock-champs/
LOCATION:McDonald’s Kihikihi Speedway\, 53 Grey Street\, Kihikihi 3800\, Kihikihi\, Waikato\, New Zealand
END:VEVENT
BEGIN:VEVENT
DTSTART;TZID=Pacific/Auckland:20251115T170000
DTEND;TZID=Pacific/Auckland:20251115T220000
DTSTAMP:20260421T204426
CREATED:20251122T075801Z
LAST-MODIFIED:20251122T075801Z
UID:2755-1763226000-1763244000@pitpilot.co.nz
SUMMARY:Robin Pratt Memorial Stockcars
DESCRIPTION:Adult Ministocks Midgets Saloons Stockcars Superstocks
URL:https://pitpilot.co.nz/event/robin-pratt-memorial-stockcars/
LOCATION:Robertson Prestige International Speedway\, Takaro\, Palmerston North 4410\, Palmerston North\, Manawatu-Whanganui
END:VEVENT
BEGIN:VEVENT
DTSTART;TZID=Pacific/Auckland:20251115T180000
DTEND;TZID=Pacific/Auckland:20251115T220000
DTSTAMP:20260421T204426
CREATED:20251122T075538Z
LAST-MODIFIED:20251122T075538Z
UID:2690-1763229600-1763244000@pitpilot.co.nz
SUMMARY:Ministock 100
DESCRIPTION:Ministocks\, Saloons\, Production Saloons\, Stockcars\, Streetstocks\, TQ’s\, Sidecars
URL:https://pitpilot.co.nz/event/ministock-100/
LOCATION:Awapuni Speedway\, 357 Awapuni Road\, Gisborne\, 4071\, New Zealand
ORGANIZER;CN="Awapuni Speedway":MAILTO:samsuphol@gmail.com
END:VEVENT
BEGIN:VEVENT
DTSTART;TZID=Pacific/Auckland:20251115T180000
DTEND;TZID=Pacific/Auckland:20251115T220000
DTSTAMP:20260421T204426
CREATED:20251122T075638Z
LAST-MODIFIED:20251122T075638Z
UID:2705-1763229600-1763244000@pitpilot.co.nz
SUMMARY:Full Throtle Females at Meeanee
DESCRIPTION:Stockcars & Ministocks. TQs | Streetstocks | Saloons
URL:https://pitpilot.co.nz/event/full-throtle-females-at-meeanee/
LOCATION:Meeanee Speedway\, 59 Sandy Road\, Meeanee\, Napier 4183\, Napier\, Hawke's Bay\, 4142\, New Zealand
ORGANIZER;CN="Meeanee Speedway":MAILTO:secretary.hbspeedway@gmail.com
END:VEVENT
BEGIN:VEVENT
DTSTART;TZID=Pacific/Auckland:20251115T180000
DTEND;TZID=Pacific/Auckland:20251115T220000
DTSTAMP:20260421T204426
CREATED:20251122T075739Z
LAST-MODIFIED:20251122T075742Z
UID:2737-1763229600-1763244000@pitpilot.co.nz
SUMMARY:Superstock Thunder
DESCRIPTION:Superstocks\, Stockcars\, Minisprints\, Streetstocks\, Youth Ministocks
URL:https://pitpilot.co.nz/event/superstock-thunder/
LOCATION:Oceanview Speedway\, Landguard Road\, Whanganui Airport\, Whanganui 4501\, Whanganui\, Manawatu-Whanganui\, 4501\, New Zealand
ORGANIZER;CN="Oceanview Speedway":MAILTO:secretary.oceanviewspeedway@gmail.com
END:VEVENT
BEGIN:VEVENT
DTSTART;TZID=Pacific/Auckland:20251115T180000
DTEND;TZID=Pacific/Auckland:20251115T220000
DTSTAMP:20260421T204426
CREATED:20251122T075827Z
LAST-MODIFIED:20251122T075827Z
UID:2773-1763229600-1763244000@pitpilot.co.nz
SUMMARY:FH Group Superstock Shootout + Protyres Wellington Streetstocks
DESCRIPTION:The stakes couldn’t be higher – the FH Group Superstock Shootout brings a massive $10\,000 prize pool\, guaranteeing all-out racing as drivers push hard with the NZ Champs on the horizon here in January. Alongside it\, the Protyres Wellington Streetstock Champs promise nail-biting\, bumper-to-bumper action as drivers fight for local glory. A blockbuster night of Speedway not to be missed. \nClasses running (TBC):\nSuperstocks\nStreetstocks\nSuper Saloons\nMinistocks\nSaloons\nProduction Saloons \nAll classes are to be confirmed and are subject to change without notice.
URL:https://pitpilot.co.nz/event/fh-group-superstock-shootout-protyres-wellington-streetstocks/
END:VEVENT
BEGIN:VEVENT
DTSTART;TZID=Pacific/Auckland:20251115T183000
DTEND;TZID=Pacific/Auckland:20251115T220000
DTSTAMP:20260421T204426
CREATED:20251122T075701Z
LAST-MODIFIED:20251122T075701Z
UID:2719-1763231400-1763244000@pitpilot.co.nz
SUMMARY:Taranaki Stockcar Champs\, Sam Korff Saloon Memorial
DESCRIPTION:Merv Julian Modified Challenge (TBC) Streetstock Best Pairs. Classes running: Superstocks\, Stockcars\, Modifieds\, Saloons\, Streetstocks\, Youth Ministocks
URL:https://pitpilot.co.nz/event/taranaki-stockcar-champs-sam-korff-saloon-memorial/
LOCATION:Stratford Speedway\, 9A Flint Road West\, Stratford 4394\, Stratford\, Taranaki\, 4352\, New Zealand
ORGANIZER;CN="Stratford Speedway":MAILTO:ksharpe@genetic.co.nz
END:VEVENT
END:VCALENDAR